BEGIN:VCALENDAR
VERSION:2.0
PRODID:-//Instituto de Astrofísica de Andalucía - ECPv6.15.20//NONSGML v1.0//EN
CALSCALE:GREGORIAN
METHOD:PUBLISH
X-ORIGINAL-URL:https://www.iaa.csic.es
X-WR-CALDESC:Eventos para Instituto de Astrofísica de Andalucía
REFRESH-INTERVAL;VALUE=DURATION:PT1H
X-Robots-Tag:noindex
X-PUBLISHED-TTL:PT1H
BEGIN:VTIMEZONE
TZID:Europe/Paris
BEGIN:DAYLIGHT
TZOFFSETFROM:+0100
TZOFFSETTO:+0200
TZNAME:CEST
DTSTART:20230326T010000
END:DAYLIGHT
BEGIN:STANDARD
TZOFFSETFROM:+0200
TZOFFSETTO:+0100
TZNAME:CET
DTSTART:20231029T010000
END:STANDARD
BEGIN:DAYLIGHT
TZOFFSETFROM:+0100
TZOFFSETTO:+0200
TZNAME:CEST
DTSTART:20240331T010000
END:DAYLIGHT
BEGIN:STANDARD
TZOFFSETFROM:+0200
TZOFFSETTO:+0100
TZNAME:CET
DTSTART:20241027T010000
END:STANDARD
BEGIN:DAYLIGHT
TZOFFSETFROM:+0100
TZOFFSETTO:+0200
TZNAME:CEST
DTSTART:20250330T010000
END:DAYLIGHT
BEGIN:STANDARD
TZOFFSETFROM:+0200
TZOFFSETTO:+0100
TZNAME:CET
DTSTART:20251026T010000
END:STANDARD
END:VTIMEZONE
BEGIN:VEVENT
DTSTART;TZID=Europe/Paris:20240715T080000
DTEND;TZID=Europe/Paris:20240719T200000
DTSTAMP:20260424T030941
CREATED:20240716T085803Z
LAST-MODIFIED:20250912T080408Z
UID:21707-1721030400-1721419200@www.iaa.csic.es
SUMMARY:XVI Reunión Científica de la Sociedad Española de Astronomía
DESCRIPTION:La XVI Reunión Científica de la SEA se celebrará en Granada entre el 15 y el 19 de julio de 2024\, organizada conjuntamente con el Instituto de Astrofísica de Andalucía (IAA-CSIC). \nComo novedad\, en esta ocasión se ofrecerá la posibilidad de organizar pequeños simposios temáticos en el seno de la reunión científica. La idea es dotar al encuentro de una estructura más ágil y menos monolítica\, de modo que los diferentes grupos puedan beneficiarse de una organización de base para compartir ciencia sobre temas de vanguardia que en algunos casos pueden ser transversales. \nEl objetivo principal de las reuniones científicas de la SEA\, además de servir de foro de contacto para toda nuestra comunidad\, es ofrecer a los jóvenes de distintos institutos y universidades un punto de reunión en un entorno amistoso pero científicamente riguroso. Por ello\, como en otras ocasiones\, pondremos especial énfasis en fomentar la participación de nuestras/os júniors y ofreceremos condiciones ventajosas para su matrícula. \nLa Reunión Científica tendrá lugar en Parque de las Ciencias de Andalucía\, un museo interactivo de ciencia de 70.000 m2\, situado a escasos minutos a pie del centro histórico de Granada y bien comunicado por transporte público.
URL:https://www.iaa.csic.es/evento/xvi-reunion-cientifica-de-la-sociedad-espanola-de-astronomia/
LOCATION:Parque de las Ciencias\, Av. de la Ciencia s/n\, Granada\, 18006\, España
CATEGORIES:SO Meeting
ATTACH;FMTTYPE=image/jpeg:https://www.iaa.csic.es/wp-content/uploads/2024/07/sea2024.jpg
END:VEVENT
BEGIN:VEVENT
DTSTART;TZID=Europe/Paris:20240717T200000
DTEND;TZID=Europe/Paris:20240717T210000
DTSTAMP:20260424T030941
CREATED:20240711T085526Z
LAST-MODIFIED:20250124T171043Z
UID:21673-1721246400-1721250000@www.iaa.csic.es
SUMMARY:Astronomía "Made in Spain"
DESCRIPTION:En el marco de la  XVI Reunión Científica de la SEA (15-19 de julio)\, el miércoles\, 17 de julio\, a las 20:00h\, en el Auditorio «Ernesto Páramo» del Parque de las Ciencias tendrá lugar la sesión de divulgación abierta al público «Astronomía made in Spain»\, donde se dará un repaso a los recientes hitos astrofísicos en los que han participado centros españoles en temas tan variados como exoplanetas\, asteroides\, o astrofísica extragaláctica. \nEl evento tendrá de maestra de ceremonias a nuestra compañera Sara Cazzoli y contará con el siguiente programa de charlas cortas: \n \n\n\n\n\nQuebrando los límites del Universo con el telescopio espacial James Webb\n\nYolanda Jiménez (Instituto de Astrofísica de Andalucía\, IAA-CSIC) \n\n¿Por qué estudiar los cuerpos menores del Sistema Solar?\n\nPaula Benabidez (Universidad de Alicante) \n\nExoplanetas: Mundos Más Allá de Nuestra Imaginación\n\nFran Pozuelos (Instituto de Astrofísica de Andalucía\, IAA-CSIC) \n\nExplorando las galaxias activas: el papel del telescopio espacial James Webb\n\nLaura Hermosa (Centro de astroBiología – CAB\, INTA-CSIC) \n\nMapeando galaxias para develar los secretos del Universo\n\nSilvia Bonoli (Donostia International Physics Center – DIPC) \n\nLos mensajeros del Universo Extremo\n\nRubén López Coto (Instituto de Astrofísica de Andalucía\, IAA-CSIC) \nSobre la XVI Reunión Científica de la SEA  \nOrganizada por la SEA\, en colaboración con el Instituto de Astrofísica de Andalucía (IAA-CSIC)\, tendrá lugar del 15 al 19 de julio en el Parque de las Ciencias. \nEl encuentro\, que se celebra cada dos años\, contará con más de 600 profesionales de la astronomía. \nEntre el variado abanico de temas que se tratarán destacan la presentación de las capacidades científicas del observatorio del SKA\, que será el mayor radiotelescopio jamás construido; los resultados científicos del primer año de operación científica del telescopio Euclid de la ESA; o el desarrollo de ARRAKHIS\, la primera misión del Programa Científico de la ESA liderada desde España\, que se lanzará en 2030. Además\, se explicarán las funciones y actividades de la Agencia Española del Espacio\, AEE\, creada en mayo de 2021. \nEn total\, entre plenarias\, sesiones paralelas\, simposios temáticos y reuniones especiales serán más de 400 contribuciones científicas que compondrán un escaparate perfecto para explicar los avances científicos y tecnológicos en astronomía de los últimos años y la participación española en todos ellos. \n\n\n\n 
URL:https://www.iaa.csic.es/evento/astronomia-made-in-spain/
LOCATION:Parque de las Ciencias\, Av. de la Ciencia s/n\, Granada\, 18006\, España
CATEGORIES:Actividades
ATTACH;FMTTYPE=image/png:https://www.iaa.csic.es/wp-content/uploads/2024/07/imagen_web_iaa_1_4.png
END:VEVENT
END:VCALENDAR