BEGIN:VCALENDAR
VERSION:2.0
PRODID:-//Instituto de Astrofísica de Andalucía - ECPv6.15.20//NONSGML v1.0//EN
CALSCALE:GREGORIAN
METHOD:PUBLISH
X-ORIGINAL-URL:https://www.iaa.csic.es
X-WR-CALDESC:Eventos para Instituto de Astrofísica de Andalucía
REFRESH-INTERVAL;VALUE=DURATION:PT1H
X-Robots-Tag:noindex
X-PUBLISHED-TTL:PT1H
BEGIN:VTIMEZONE
TZID:Europe/Paris
BEGIN:DAYLIGHT
TZOFFSETFROM:+0100
TZOFFSETTO:+0200
TZNAME:CEST
DTSTART:20230326T010000
END:DAYLIGHT
BEGIN:STANDARD
TZOFFSETFROM:+0200
TZOFFSETTO:+0100
TZNAME:CET
DTSTART:20231029T010000
END:STANDARD
BEGIN:DAYLIGHT
TZOFFSETFROM:+0100
TZOFFSETTO:+0200
TZNAME:CEST
DTSTART:20240331T010000
END:DAYLIGHT
BEGIN:STANDARD
TZOFFSETFROM:+0200
TZOFFSETTO:+0100
TZNAME:CET
DTSTART:20241027T010000
END:STANDARD
BEGIN:DAYLIGHT
TZOFFSETFROM:+0100
TZOFFSETTO:+0200
TZNAME:CEST
DTSTART:20250330T010000
END:DAYLIGHT
BEGIN:STANDARD
TZOFFSETFROM:+0200
TZOFFSETTO:+0100
TZNAME:CET
DTSTART:20251026T010000
END:STANDARD
END:VTIMEZONE
BEGIN:VEVENT
DTSTART;TZID=Europe/Paris:20240926T110000
DTEND;TZID=Europe/Paris:20240926T120000
DTSTAMP:20260423T194646
CREATED:20240924T083537Z
LAST-MODIFIED:20250125T200936Z
UID:21973-1727348400-1727352000@www.iaa.csic.es
SUMMARY:The stellar distribution in ultra-faint dwarf galaxies suggests deviations from the collisionless cold dark matter paradigm
DESCRIPTION:Unraveling the nature of dark matter (DM) stands as a primary objective in modern physics. I will present evidence suggesting deviations from the collisionless Cold DM (CDM) paradigm. In the standard cosmological model the dark matter (DM) particles are collisionless and\, because of this very nature\, they develop halos with the characteristic central cusp known as NFW profile. Real galaxies do not show NFW profiles but\, rather\, have a DM mass distribution with a central plateau or core\, characteristic of self-gravitating systems in thermodynamic equilibrium. Within the standard model\, the collisionless DM reaches equilibrium through baryon-driven processes able to transform the overall potential from cusp to core. Such mechanism becomes inoperative for galaxies with few stars (stellar mass <1e6 Msun)\, thus\, finding cores in these low-mass galaxies would indicate that the DM is not collisionless\, reflecting the much sought-after and currently unknown true nature of the DM (whether it is fuzzy\, self-interacting\, warm\, or else). Measuring the DM distribution in tiny galaxies through traditional dynamical indicators is impossible\, but we have developed a tool to constrain the distribution of DM from the stellar photometry alone. We have used the tool to analyze the stellar cores observed in 6 Ultra Faint Dwarf (UFD) galaxies with stellar masses between 1e3 and 1e4 Msun. They do not live in a NFW potential. Other conceivable explanations for the observed cores are disfavored by simulations and/or observations. Thus\, the evidence suggests that collisions among DM particles or other alternatives to CDM are likely shaping these galaxies. \nFecha: 26/09/2024 – 11:00Conferenciante: Dr. Jorge Sánchez AlmeidaFiliación: Instituto de Astrofísica de Canarias\, España
URL:https://www.iaa.csic.es/evento/the-stellar-distribution-in-ultra-faint-dwarf-galaxies-suggests-deviations-from-the-collisionless-cold-dark-matter-paradigm/
LOCATION:IAA – CSIC\, Glorieta de la Astronomía\, Granada\, España
CATEGORIES:Seminarios
ATTACH;FMTTYPE=image/png:https://www.iaa.csic.es/wp-content/uploads/2023/11/seminarscover-e1752660087307.png
END:VEVENT
END:VCALENDAR