BEGIN:VCALENDAR
VERSION:2.0
PRODID:-//Instituto de Astrofísica de Andalucía - ECPv6.15.20//NONSGML v1.0//EN
CALSCALE:GREGORIAN
METHOD:PUBLISH
X-WR-CALNAME:Instituto de Astrofísica de Andalucía
X-ORIGINAL-URL:https://www.iaa.csic.es
X-WR-CALDESC:Eventos para Instituto de Astrofísica de Andalucía
REFRESH-INTERVAL;VALUE=DURATION:PT1H
X-Robots-Tag:noindex
X-PUBLISHED-TTL:PT1H
BEGIN:VTIMEZONE
TZID:Europe/Paris
BEGIN:DAYLIGHT
TZOFFSETFROM:+0100
TZOFFSETTO:+0200
TZNAME:CEST
DTSTART:20230326T010000
END:DAYLIGHT
BEGIN:STANDARD
TZOFFSETFROM:+0200
TZOFFSETTO:+0100
TZNAME:CET
DTSTART:20231029T010000
END:STANDARD
BEGIN:DAYLIGHT
TZOFFSETFROM:+0100
TZOFFSETTO:+0200
TZNAME:CEST
DTSTART:20240331T010000
END:DAYLIGHT
BEGIN:STANDARD
TZOFFSETFROM:+0200
TZOFFSETTO:+0100
TZNAME:CET
DTSTART:20241027T010000
END:STANDARD
BEGIN:DAYLIGHT
TZOFFSETFROM:+0100
TZOFFSETTO:+0200
TZNAME:CEST
DTSTART:20250330T010000
END:DAYLIGHT
BEGIN:STANDARD
TZOFFSETFROM:+0200
TZOFFSETTO:+0100
TZNAME:CET
DTSTART:20251026T010000
END:STANDARD
END:VTIMEZONE
BEGIN:VEVENT
DTSTART;TZID=Europe/Paris:20240927T080000
DTEND;TZID=Europe/Paris:20240927T230000
DTSTAMP:20260423T164826
CREATED:20240913T095648Z
LAST-MODIFIED:20250911T093553Z
UID:21913-1727424000-1727478000@www.iaa.csic.es
SUMMARY:La Noche de l@s Investigador@s 2024
DESCRIPTION:Por 13º año consecutivo y al mismo tiempo que en casi 400 ciudades europeas\, te descubrimos el lado más humano de la investigación a través de un contacto directo y de la conversación con los propios expertos y expertas. \nLa Noche Europea de l@s Investigador@s se celebra este año el 27 de septiembre en las ocho capitales andaluzas y nosotros te invitamos a Granada a celebrar con nosotr@s en el Stand del IAA-CSIC en el Paseo del Salón. \nEn la edición de 2024 La Noche apuesta de nuevo por llenar de talleres\, experimentos\, rutas y charlas sobre ciencia e investigación las calles y plazas de las ciudades andaluzas. Y en el IAA-CSIC hemos preparado un programa con actividades fantásticas para ese día: \nViernes 27 de septiembre – Paseo del Salón  \nPor la mañana (actividades reservadas para colegios ya inscritos) \nAstronomía accesible\, el Universo en tus manos – Enrique Pérez Montero \nTaller cósmico: ¿cuál es la forma del Universo? – Ana Conrado Pérez y Celia Navas Martín \nPor la tarde (acceso libre) \n18:00H – Desde la Luna a otras Tierras – Rosario Sanz Mesa & Sebastiano de Franciscis \n18:30h – Rompiendo las fronteras del Universo lejano con el telescopio espacial James Webb – Yolanda Jiménez Teja \n18:50h – Viaje a los exoplanetas más raros del Universo – Francisco J. Pozuelos \n19:10h – PIIISA: al infinito y más allá – Dani Guirado & >Gerardo García Moreno \n19:20h – ¿Qué se le ha perdido a un físico solar en el Ártico? – David Orozco Suárez \n19:40h – Explorando las galaxias: un viaje en 56 colores – Ginés Martínez Solaeche \n20:00h – “Escuchando el cante de las estrellas”\, un proyecto de ciencia ciudadana – Sebastiano de Franciscis (IAA-CSIC)\, Antonio García Hernández (UGR) & José López Montes (RCSM Victoria Eugenia de Granada) \n20:10h – Presentación del proyecto de ciencia ciudadana “Ciudades Respirables-Ciudades Sostenibles” – Antonio Jesús Ocaña Fernández & Olga Muñoz Gómez \n20:20h – Las galaxias más presumidas no limpian\, acumulan polvo – Borja Pérez Díaz \n20:40h – Sssshhh… El universo nos está susurrando – Clara Cabanillas de la Casa \n21:00h – Descubre cómo la astronomía ha cambiado tu vida – Rubén Fedriani \n… \n18:30h-21:30H – Mesa de Realidad Virtual «Explorando galaxias en 3D» –  Marcos Villaverde Aparicio & Clara Cabanillas de la Casa \nAdemás\, este año\, tendremos por la mañana\, con los colegios\, la actividad «Pregunta a una científica»\,  con las investigadoras Concepción Fernández Leyva (IGME-CSIC)\, Montserrat Benítez Fernández (EEA-CSIC)\, Isabel Seiquer Gómez Pavón (EEZ-CSIC)\, Elena Gómez Díaz (IPBLN-CSIC)\, Carmen Rodríguez Ruiz de Almodóvar (IACT-CSIC-UGR) y Sara Cazzoli (IAA-CSIC). \nSe trata de una actividad organizada por la Red de Comisiones de Igualdad\, Diversidad e Inclusión de los distintos centros de investigación del CSIC granadinos: \n\nEl Instituto de Astrofísica de Andalucía (IAA-CSIC)\nLa Estación Experimental del Zaidín (EEZ-CSIC)\nLa Escuela de Estudios Árabes (EEA-CSIC)\nEl Instituto de Parasitología y Biomedicina López Neyra (IPBLN-CSIC)\nEl Instituto Andaluz de Ciencias de la Tierra (IACT-CSIC)\nEl Centro Nacional Instituto Geológico y Minero de España (CN IGME-CSIC)
URL:https://www.iaa.csic.es/evento/la-noche-de-ls-investigadors-2024/
LOCATION:Fuente de las Granadas\, Pl. del Humilladero\, Granada\, Granada\, 18009\, España
CATEGORIES:Actividades
ATTACH;FMTTYPE=image/jpeg:https://www.iaa.csic.es/wp-content/uploads/2024/09/imagen_web_iaa_36.jpg
END:VEVENT
BEGIN:VEVENT
DTSTART;TZID=Europe/Paris:20240927T123000
DTEND;TZID=Europe/Paris:20240927T133000
DTSTAMP:20260423T164826
CREATED:20240924T085147Z
LAST-MODIFIED:20250125T200908Z
UID:21978-1727440200-1727443800@www.iaa.csic.es
SUMMARY:Who Is Afraid of the Dark (Energy)?
DESCRIPTION:Cosmic acceleration dominates the behavior of the recent universe\, with some fundamentally new physics at its heart. Recent data gives a tantalizing suggestion that the dark energy behind it is more complicated than a cosmological constant. Nevertheless\, we do know a lot about how to describe dark energy behavior. Data within the next year has great promise to give further insight\, and exciting new instruments are being planned. \nFecha: 27/09/2024 – 12:30Conferenciante: Dr. Eric LinderFiliación: Lawrence Berkeley National Laboratory\, USA.
URL:https://www.iaa.csic.es/evento/who-is-afraid-of-the-dark-energy/
LOCATION:IAA – CSIC\, Glorieta de la Astronomía\, Granada\, España
CATEGORIES:Seminarios
ATTACH;FMTTYPE=image/png:https://www.iaa.csic.es/wp-content/uploads/2023/11/seminarscover-e1752660087307.png
END:VEVENT
END:VCALENDAR