BEGIN:VCALENDAR
VERSION:2.0
PRODID:-//Instituto de Astrofísica de Andalucía - ECPv6.15.20//NONSGML v1.0//EN
CALSCALE:GREGORIAN
METHOD:PUBLISH
X-WR-CALNAME:Instituto de Astrofísica de Andalucía
X-ORIGINAL-URL:https://www.iaa.csic.es
X-WR-CALDESC:Eventos para Instituto de Astrofísica de Andalucía
REFRESH-INTERVAL;VALUE=DURATION:PT1H
X-Robots-Tag:noindex
X-PUBLISHED-TTL:PT1H
BEGIN:VTIMEZONE
TZID:Europe/Paris
BEGIN:DAYLIGHT
TZOFFSETFROM:+0100
TZOFFSETTO:+0200
TZNAME:CEST
DTSTART:20230326T010000
END:DAYLIGHT
BEGIN:STANDARD
TZOFFSETFROM:+0200
TZOFFSETTO:+0100
TZNAME:CET
DTSTART:20231029T010000
END:STANDARD
BEGIN:DAYLIGHT
TZOFFSETFROM:+0100
TZOFFSETTO:+0200
TZNAME:CEST
DTSTART:20240331T010000
END:DAYLIGHT
BEGIN:STANDARD
TZOFFSETFROM:+0200
TZOFFSETTO:+0100
TZNAME:CET
DTSTART:20241027T010000
END:STANDARD
BEGIN:DAYLIGHT
TZOFFSETFROM:+0100
TZOFFSETTO:+0200
TZNAME:CEST
DTSTART:20250330T010000
END:DAYLIGHT
BEGIN:STANDARD
TZOFFSETFROM:+0200
TZOFFSETTO:+0100
TZNAME:CET
DTSTART:20251026T010000
END:STANDARD
END:VTIMEZONE
BEGIN:VEVENT
DTSTART;VALUE=DATE:20240930
DTEND;VALUE=DATE:20241005
DTSTAMP:20260423T170752
CREATED:20240402T145831Z
LAST-MODIFIED:20250912T080558Z
UID:20957-1727654400-1728086399@www.iaa.csic.es
SUMMARY:ERIS 2024 Tenth European Radio Interferometry School
DESCRIPTION:The tenth edition of the European Radio Interferometry School\, ERIS2024\, will be held in Granada\, Spain\, from Monday September 30th to Friday October 4th\, 2024. ERIS will provide a week of lectures and tutorials on how to achieve scientific results from radio interferometry. The school is co-organised by the Instituto de Astrofísica de Andalucía (IAA-CSIC) and JIVE – Joint Institute for VLBI ERIC. This school is sponsored by the OPTICON-RadioNET Pilot project and the Severo Ochoa training program of the IAA-CSIC. \nThe topics covered by the lectures/tutorials will include: \n\n   Calibration and imaging of continuum\, spectral line and polarization data\n   Low frequency (LOFAR domain)\, cm-wave (e-MERLIN domain)\, decimetre-wave (HI/OH domain)\, high frequency (ALMA/IRAM domain)\, and VLBI interferometry\n   Extracting the information from astronomical data and interpreting the results\n   Choosing the most suitable array and observing plan for your project.
URL:https://www.iaa.csic.es/evento/eris-2024-tenth-european-radio-interferometry-school/
LOCATION:IAA – CSIC\, Glorieta de la Astronomía\, Granada\, España
CATEGORIES:SO Training
ATTACH;FMTTYPE=image/jpeg:https://www.iaa.csic.es/wp-content/uploads/2024/04/eris.jpeg
END:VEVENT
BEGIN:VEVENT
DTSTART;TZID=Europe/Paris:20241003T123000
DTEND;TZID=Europe/Paris:20241003T133000
DTSTAMP:20260423T170752
CREATED:20240924T090032Z
LAST-MODIFIED:20250912T080235Z
UID:21989-1727958600-1727962200@www.iaa.csic.es
SUMMARY:SO Colloquium: The next generation of milliarcsecond surveys with SKA-VLBI
DESCRIPTION:Very Long Baseline Interferometry (VLBI)\, using both SKA-Low and SKA-Mid\, is poised to deliver groundbreaking observations with milliarcsecond resolution\, surpassing the capabilities of the standard SKA array. VLBI in conjunction with the SKA holds the promise of unlocking profound insights across various astrophysical topics and science working groups. \nVLBI with the SKA stands to revolutionise our understanding of galaxy evolution and the physics of jet accretion by studying Active Galactic Nuclei (AGN) at low luminosities. Moreover\, it is poised to make significant contributions to cosmology\, through constraining dark energy and dark matter via gravitational lenses and the study of nuclear water masers. The exploration of the stellar lifecycle\, including the temporal evolution of supernova remnants\, plus the rapid follow-up of transients (e.g.\, localising FRBs and tidal disruption events) adds another dimension to the diverse range of science that can be investigated by VLBI with the SKA. \nSKA-VLBI is set to offer unparalleled astrometric observations capable of measuring proper motions and parallaxes of galactic objects. This capability opens the door to mapping the structure of our Galaxy and testing gravity within binary systems. This overview highlights just a subset of the topics that will be addressed in this presentation\, where I will delve into the scientific achievements achievable through VLBI with the SKA and elucidate the operational aspects of SKA-VLBI. \nFecha: 03/10/2024 – 12:30Conferenciante: Dr. Jack RadcliffeFiliación: University of Pretoria\, South Africa
URL:https://www.iaa.csic.es/evento/so-coloquium-the-next-generation-of-milliarcsecond-surveys-with-ska-vlbi/
LOCATION:IAA – CSIC\, Glorieta de la Astronomía\, Granada\, España
CATEGORIES:SO Colloquium
ATTACH;FMTTYPE=image/png:https://www.iaa.csic.es/wp-content/uploads/2025/07/SO-COLLOQUIUM.png
END:VEVENT
END:VCALENDAR