BEGIN:VCALENDAR
VERSION:2.0
PRODID:-//Instituto de Astrofísica de Andalucía - ECPv6.15.20//NONSGML v1.0//EN
CALSCALE:GREGORIAN
METHOD:PUBLISH
X-WR-CALNAME:Instituto de Astrofísica de Andalucía
X-ORIGINAL-URL:https://www.iaa.csic.es
X-WR-CALDESC:Eventos para Instituto de Astrofísica de Andalucía
REFRESH-INTERVAL;VALUE=DURATION:PT1H
X-Robots-Tag:noindex
X-PUBLISHED-TTL:PT1H
BEGIN:VTIMEZONE
TZID:Europe/Paris
BEGIN:DAYLIGHT
TZOFFSETFROM:+0100
TZOFFSETTO:+0200
TZNAME:CEST
DTSTART:20230326T010000
END:DAYLIGHT
BEGIN:STANDARD
TZOFFSETFROM:+0200
TZOFFSETTO:+0100
TZNAME:CET
DTSTART:20231029T010000
END:STANDARD
BEGIN:DAYLIGHT
TZOFFSETFROM:+0100
TZOFFSETTO:+0200
TZNAME:CEST
DTSTART:20240331T010000
END:DAYLIGHT
BEGIN:STANDARD
TZOFFSETFROM:+0200
TZOFFSETTO:+0100
TZNAME:CET
DTSTART:20241027T010000
END:STANDARD
BEGIN:DAYLIGHT
TZOFFSETFROM:+0100
TZOFFSETTO:+0200
TZNAME:CEST
DTSTART:20250330T010000
END:DAYLIGHT
BEGIN:STANDARD
TZOFFSETFROM:+0200
TZOFFSETTO:+0100
TZNAME:CET
DTSTART:20251026T010000
END:STANDARD
END:VTIMEZONE
BEGIN:VEVENT
DTSTART;TZID=Europe/Paris:20241004T200000
DTEND;TZID=Europe/Paris:20241006T143000
DTSTAMP:20260423T112124
CREATED:20241004T074335Z
LAST-MODIFIED:20250124T132259Z
UID:22019-1728072000-1728225000@www.iaa.csic.es
SUMMARY:El impacto de la astrofotografía
DESCRIPTION:La sala Mudéjar del Rectorado de la Universidad de Córdoba acogerá este fin de semana el Congreso Astrofotografía 2024. Un congreso en el que\, a lo largo de tres días\, especialistas de la fotografía astronómica e investigadores profesionales de la astrofísica debatirán sobre técnicas de procesamiento\, proyectos de investigación con profesionales y las dificultades y retos que tienen que afrontar quienes quieren fotografiar el firmamento. \n \nAsí\, el congreso abordará a través de varias ponencias el impacto de la astrofotografía\, actividad ejercida tanto por profesionales como por amateurs y que cada vez tiene más seguidores debido a la facilidad de acceso a nuevas tecnologías para capturar imágenes y al auge de las redes sociales que permiten su difusión masiva. \nEl Congreso profundizará sobre el papel de la astrofotografía como herramienta de divulgación de la Astronomía y su impacto en la investigación en Astrofísica\, así como las posibles amenazas actuales que dificultan esta actividad como las constelaciones de satélites\, el abuso de técnicas de procesamiento de imágenes o la contaminación lumínica. Fotografía planetaria y cometaria\, imagen ultra-profunda\, paisajes\, time-lapse astronómico o el  uso de IA serán algunos de los temas a tratar. \nEl Instituto de Astrofísica de Andalucía (IAA-CSIC) es patrocinador y forma parte del comité organizador local (LOC). \n \nMás información: David Martínez Delgado  – delgado@iaa.es –  Tlfno. 662178461Rut Morales Crespo – rutphysics@gmail.com
URL:https://www.iaa.csic.es/evento/el-impacto-de-la-astrofotografia/
LOCATION:Universidad de Córdoba\, Av. de Medina Azahara\, 5\, Poniente Sur\, 14071\, Córdoba\, Córdoba\, 14071\, Spain
CATEGORIES:Actividades
ATTACH;FMTTYPE=image/jpeg:https://www.iaa.csic.es/wp-content/uploads/2024/10/astrofotografia.jpg
END:VEVENT
END:VCALENDAR