BEGIN:VCALENDAR
VERSION:2.0
PRODID:-//Instituto de Astrofísica de Andalucía - ECPv6.15.20//NONSGML v1.0//EN
CALSCALE:GREGORIAN
METHOD:PUBLISH
X-WR-CALNAME:Instituto de Astrofísica de Andalucía
X-ORIGINAL-URL:https://www.iaa.csic.es
X-WR-CALDESC:Eventos para Instituto de Astrofísica de Andalucía
REFRESH-INTERVAL;VALUE=DURATION:PT1H
X-Robots-Tag:noindex
X-PUBLISHED-TTL:PT1H
BEGIN:VTIMEZONE
TZID:Europe/Paris
BEGIN:DAYLIGHT
TZOFFSETFROM:+0100
TZOFFSETTO:+0200
TZNAME:CEST
DTSTART:20230326T010000
END:DAYLIGHT
BEGIN:STANDARD
TZOFFSETFROM:+0200
TZOFFSETTO:+0100
TZNAME:CET
DTSTART:20231029T010000
END:STANDARD
BEGIN:DAYLIGHT
TZOFFSETFROM:+0100
TZOFFSETTO:+0200
TZNAME:CEST
DTSTART:20240331T010000
END:DAYLIGHT
BEGIN:STANDARD
TZOFFSETFROM:+0200
TZOFFSETTO:+0100
TZNAME:CET
DTSTART:20241027T010000
END:STANDARD
BEGIN:DAYLIGHT
TZOFFSETFROM:+0100
TZOFFSETTO:+0200
TZNAME:CEST
DTSTART:20250330T010000
END:DAYLIGHT
BEGIN:STANDARD
TZOFFSETFROM:+0200
TZOFFSETTO:+0100
TZNAME:CET
DTSTART:20251026T010000
END:STANDARD
END:VTIMEZONE
BEGIN:VEVENT
DTSTART;TZID=Europe/Paris:20241203T123000
DTEND;TZID=Europe/Paris:20241203T133000
DTSTAMP:20260423T075456
CREATED:20241119T084619Z
LAST-MODIFIED:20250125T200534Z
UID:22444-1733229000-1733232600@www.iaa.csic.es
SUMMARY:Experimental ice simulations for the interpretation of ice and organics observations in the Solar System
DESCRIPTION:The harsh conditions in space (ultra-high vacuum\, cryogenic temperatures\, and radiation) are simulated in laboratory chambers to study ice properties and processes. UV photons/X-rays/ions impact on the ice covering microscopic dust particles in dense interstellar clouds\, comets\, icy moons and planetary surfaces. Radiation produces radicals and reactive species changing the initial composition of the ice (made of simple species like water\, CO\, CO2\, CH3OH\, NH3\, etc) to form complex molecules of prebiotic interest (amino acids\, nucleobases\, sugars\, …) in the laboratory. Many of these molecules were also identified in comets and asteroids. \nThe ice porosity and degree of order in the structure of these ices may also serve to trace their thermal and radiative history. Infrared spectroscopy is a powerful tool to gather detailed information of ices in space\, while mass spectrometry allows to characterize the gas composition. Ice laboratory studies have become essential to prepare new cometary and icy moon missions and to interpret the results delivered by these missions. We will present the application of the ice experiments to the Rosetta mission\, Hayabusa 2\, JUICE and JWST. \nFecha: 03/12/2024 – 12:30Conferenciante: Dr. Guillermo Muñoz CaroFiliación: Centro de AstroBiología – CSIC
URL:https://www.iaa.csic.es/evento/experimental-ice-simulations-for-the-interpretation-of-ice-and-organics-observations-in-the-solar-system/
LOCATION:IAA – CSIC\, Glorieta de la Astronomía\, Granada\, España
CATEGORIES:Seminarios
ATTACH;FMTTYPE=image/png:https://www.iaa.csic.es/wp-content/uploads/2023/11/seminarscover-e1752660087307.png
END:VEVENT
END:VCALENDAR