BEGIN:VCALENDAR
VERSION:2.0
PRODID:-//Instituto de Astrofísica de Andalucía - ECPv6.15.20//NONSGML v1.0//EN
CALSCALE:GREGORIAN
METHOD:PUBLISH
X-WR-CALNAME:Instituto de Astrofísica de Andalucía
X-ORIGINAL-URL:https://www.iaa.csic.es
X-WR-CALDESC:Eventos para Instituto de Astrofísica de Andalucía
REFRESH-INTERVAL;VALUE=DURATION:PT1H
X-Robots-Tag:noindex
X-PUBLISHED-TTL:PT1H
BEGIN:VTIMEZONE
TZID:Europe/Paris
BEGIN:DAYLIGHT
TZOFFSETFROM:+0100
TZOFFSETTO:+0200
TZNAME:CEST
DTSTART:20230326T010000
END:DAYLIGHT
BEGIN:STANDARD
TZOFFSETFROM:+0200
TZOFFSETTO:+0100
TZNAME:CET
DTSTART:20231029T010000
END:STANDARD
BEGIN:DAYLIGHT
TZOFFSETFROM:+0100
TZOFFSETTO:+0200
TZNAME:CEST
DTSTART:20240331T010000
END:DAYLIGHT
BEGIN:STANDARD
TZOFFSETFROM:+0200
TZOFFSETTO:+0100
TZNAME:CET
DTSTART:20241027T010000
END:STANDARD
BEGIN:DAYLIGHT
TZOFFSETFROM:+0100
TZOFFSETTO:+0200
TZNAME:CEST
DTSTART:20250330T010000
END:DAYLIGHT
BEGIN:STANDARD
TZOFFSETFROM:+0200
TZOFFSETTO:+0100
TZNAME:CET
DTSTART:20251026T010000
END:STANDARD
END:VTIMEZONE
BEGIN:VEVENT
DTSTART;TZID=Europe/Paris:20241210T123000
DTEND;TZID=Europe/Paris:20241210T133000
DTSTAMP:20260423T101609
CREATED:20241119T084818Z
LAST-MODIFIED:20250125T200517Z
UID:22450-1733833800-1733837400@www.iaa.csic.es
SUMMARY:ESERO\, from space to the classroom
DESCRIPTION:With the slogan ‘from space to the classroom’\, and building on the fascination that students have for space\, the European Space Agency’s (ESA) European Space Education Resource Office in Spain (ESERO Spain) provides resources to primary and secondary school teachers to improve their literacy and STEM (Science\, Technology\, Engineering and Mathematics) skills. Using the theme of space as a context for inspiration and motivation\, ESERO runs a programme of training and continuous professional development\, based on a unique combination of science\, technology and teaching expertise. This combination challenges the traditional way science is taught in schools and involves the application of innovative learning methodologies. \nFecha: 10/12/2024 – 12:30Conferenciante: Dr. Manuel GonzálezFiliación: Oficina ESERO Spain
URL:https://www.iaa.csic.es/evento/esero-from-space-to-the-classroom/
LOCATION:IAA – CSIC\, Glorieta de la Astronomía\, Granada\, España
CATEGORIES:Seminarios
ATTACH;FMTTYPE=image/png:https://www.iaa.csic.es/wp-content/uploads/2023/11/seminarscover-e1752660087307.png
END:VEVENT
END:VCALENDAR