BEGIN:VCALENDAR
VERSION:2.0
PRODID:-//Instituto de Astrofísica de Andalucía - ECPv6.15.20//NONSGML v1.0//EN
CALSCALE:GREGORIAN
METHOD:PUBLISH
X-WR-CALNAME:Instituto de Astrofísica de Andalucía
X-ORIGINAL-URL:https://www.iaa.csic.es
X-WR-CALDESC:Eventos para Instituto de Astrofísica de Andalucía
REFRESH-INTERVAL;VALUE=DURATION:PT1H
X-Robots-Tag:noindex
X-PUBLISHED-TTL:PT1H
BEGIN:VTIMEZONE
TZID:Europe/Paris
BEGIN:DAYLIGHT
TZOFFSETFROM:+0100
TZOFFSETTO:+0200
TZNAME:CEST
DTSTART:20230326T010000
END:DAYLIGHT
BEGIN:STANDARD
TZOFFSETFROM:+0200
TZOFFSETTO:+0100
TZNAME:CET
DTSTART:20231029T010000
END:STANDARD
BEGIN:DAYLIGHT
TZOFFSETFROM:+0100
TZOFFSETTO:+0200
TZNAME:CEST
DTSTART:20240331T010000
END:DAYLIGHT
BEGIN:STANDARD
TZOFFSETFROM:+0200
TZOFFSETTO:+0100
TZNAME:CET
DTSTART:20241027T010000
END:STANDARD
BEGIN:DAYLIGHT
TZOFFSETFROM:+0100
TZOFFSETTO:+0200
TZNAME:CEST
DTSTART:20250330T010000
END:DAYLIGHT
BEGIN:STANDARD
TZOFFSETFROM:+0200
TZOFFSETTO:+0100
TZNAME:CET
DTSTART:20251026T010000
END:STANDARD
END:VTIMEZONE
BEGIN:VEVENT
DTSTART;TZID=Europe/Paris:20241219T190000
DTEND;TZID=Europe/Paris:20241219T200000
DTSTAMP:20260423T101623
CREATED:20241219T110912Z
LAST-MODIFIED:20250125T010309Z
UID:22529-1734634800-1734638400@www.iaa.csic.es
SUMMARY:¿Qué sabemos de nuestra Galaxia después de Gaia?
DESCRIPTION:En los últimos 11 años\, los resultados de la misión Gaia han revolucionado nuestro conocimiento sobre la Vía Láctea\, ofreciendo un nivel de detalle sin precedentes. Este observatorio espacial ha cartografiado con extrema precisión las posiciones\, movimientos y fotometría de más de mil ochocientos millones de estrellas\, proporcionando una visión tridimensional de nuestra galaxia. Gracias a Gaia\, ahora entendemos mejor la estructura espiral de la Vía Láctea\, los procesos de formación estelar y las interacciones gravitatorias con otras galaxias cercanas. \nLos datos han revelado sorprendentes ondulaciones en el disco galáctico\, probablemente causadas por encuentros con galaxias satélite como la Sagitario. También han permitido identificar cúmulos estelares\, corrientes de estrellas y patrones de movimiento que nos cuentan la historia dinámica de la Galaxia. Además\, Gaia ha mejorado significativamente nuestras mediciones de distancias y masas estelares\, lo que impacta directamente  en una  mejor comprensión de la evolución estelar. \nEn esencia\, Gaia no solo ha transformado la astrofísica\, sino que ha permitido a la humanidad explorar con mayor claridad su hogar galáctico\, abriendo nuevas preguntas y desafíos en nuestra búsqueda por comprender el cosmos. \nFecha: 19/12/2024 – 19:00Conferenciante: Emilio J. AlfaroFiliación: Instituto de Astrofísica de Andalucía IAA-CSIC \n 
URL:https://www.iaa.csic.es/evento/que-sabemos-de-nuestra-galaxia-despues-de-gaia/
LOCATION:IAA – CSIC\, Glorieta de la Astronomía\, Granada\, España
CATEGORIES:Conferencias Lucas Lara
ATTACH;FMTTYPE=image/jpeg:https://www.iaa.csic.es/wp-content/uploads/2024/12/alfaro.jpg
END:VEVENT
END:VCALENDAR