BEGIN:VCALENDAR
VERSION:2.0
PRODID:-//Instituto de Astrofísica de Andalucía - ECPv6.15.20//NONSGML v1.0//EN
CALSCALE:GREGORIAN
METHOD:PUBLISH
X-WR-CALNAME:Instituto de Astrofísica de Andalucía
X-ORIGINAL-URL:https://www.iaa.csic.es
X-WR-CALDESC:Eventos para Instituto de Astrofísica de Andalucía
REFRESH-INTERVAL;VALUE=DURATION:PT1H
X-Robots-Tag:noindex
X-PUBLISHED-TTL:PT1H
BEGIN:VTIMEZONE
TZID:Europe/Paris
BEGIN:DAYLIGHT
TZOFFSETFROM:+0100
TZOFFSETTO:+0200
TZNAME:CEST
DTSTART:20240331T010000
END:DAYLIGHT
BEGIN:STANDARD
TZOFFSETFROM:+0200
TZOFFSETTO:+0100
TZNAME:CET
DTSTART:20241027T010000
END:STANDARD
BEGIN:DAYLIGHT
TZOFFSETFROM:+0100
TZOFFSETTO:+0200
TZNAME:CEST
DTSTART:20250330T010000
END:DAYLIGHT
BEGIN:STANDARD
TZOFFSETFROM:+0200
TZOFFSETTO:+0100
TZNAME:CET
DTSTART:20251026T010000
END:STANDARD
BEGIN:DAYLIGHT
TZOFFSETFROM:+0100
TZOFFSETTO:+0200
TZNAME:CEST
DTSTART:20260329T010000
END:DAYLIGHT
BEGIN:STANDARD
TZOFFSETFROM:+0200
TZOFFSETTO:+0100
TZNAME:CET
DTSTART:20261025T010000
END:STANDARD
END:VTIMEZONE
BEGIN:VEVENT
DTSTART;TZID=Europe/Paris:20250121T090000
DTEND;TZID=Europe/Paris:20251030T170000
DTSTAMP:20260422T091941
CREATED:20241219T121029Z
LAST-MODIFIED:20250912T080532Z
UID:22550-1737450000-1761843600@www.iaa.csic.es
SUMMARY:Academic Spanish Course for Foreigners (2025)
DESCRIPTION:The Academic Spanish course for foreigners is designed to facilitate effective communication in academic and profesional contexts. Through a practical and personalized focus\, the participants will develop essential linguistic abilities to discuss scientific articles\, participate in conferences\, give presentations\, and collaborate in international projects. The program includes technical vocabulary\, beginner and advanced grammar\, and simulations of real-life situations. Moreover\, it will promote the cultural immersion to strengthen the comprehension of the Hispanic world\, and their impact on interdisciplinary investigation and collaboration. \nThis course will be taught throughout in the following blocks: \nJanuary 21st – February 27thApril 22nd – May 29thSeptember 23rd – October 30thThe course is taught by Prof. Nazira Ruíz
URL:https://www.iaa.csic.es/evento/academic-spanish-course-for-foreigners-2025/
LOCATION:IAA – CSIC\, Glorieta de la Astronomía\, Granada\, España
CATEGORIES:SO Training
ATTACH;FMTTYPE=image/jpeg:https://www.iaa.csic.es/wp-content/uploads/2024/12/academicspanish.jpg
END:VEVENT
BEGIN:VEVENT
DTSTART;TZID=Europe/Paris:20250203T093000
DTEND;TZID=Europe/Paris:20250220T230000
DTSTAMP:20260422T091941
CREATED:20250114T173241Z
LAST-MODIFIED:20250912T080528Z
UID:22674-1738575000-1740092400@www.iaa.csic.es
SUMMARY:Element Abundances and the Chemical Evolution of the Cosmos
DESCRIPTION:The course will be taught in seven sessions of 1.5 hours each. \n\n27 Jan 2025: Cosmic elemental abundances. Data sources. Stellar abundances. Nebular abundances.\n29 Jan 2025: Primordial nucleosynthesis and abundances of the light elements.\n3 Feb 2025: Outline of stellar structure and evolution.\n5 Feb 2025: Stellar nucleosynthesis and principles of galactic chemical evolution.\n10 Feb 2025: Specific models of galactic chemical evolution and comparison with availabledata.\n12 Feb 2025: The chemical evolution of external galaxies.\n17 Feb 2025: Element abundances at high redshifts and cosmic chemical evolution.\n\nThis course is taught by Professor Ángeles I. Díaz (Universidad Autónoma de Madrid)
URL:https://www.iaa.csic.es/evento/element-abundances-and-the-chemical-evolution-of-the-cosmos/
LOCATION:IAA – CSIC\, Glorieta de la Astronomía\, Granada\, España
CATEGORIES:SO Training
ATTACH;FMTTYPE=image/jpeg:https://www.iaa.csic.es/wp-content/uploads/2025/01/shrinath-kc_bxob_a3c-unsplash.jpg
END:VEVENT
BEGIN:VEVENT
DTSTART;TZID=Europe/Paris:20250213T123000
DTEND;TZID=Europe/Paris:20250213T133000
DTSTAMP:20260422T091941
CREATED:20250127T090933Z
LAST-MODIFIED:20250912T080204Z
UID:24366-1739449800-1739453400@www.iaa.csic.es
SUMMARY:SO Colloquium: Present and future of exoplanet research
DESCRIPTION:The search for new worlds in the Galaxy in the past three decades has been highly successful and the prospects for the next decade are even brighter. A succession of space missions and ground-based facilities defines a timeline extending well into the 2030s. Many advances on the planet discovery front will come from the PLATO mission\, which will find long-period planets and even true Earth analogues\, and from the many ongoing and future precise radial velocity instruments from the ground\, such as CARMENES and ESPRESSO. A major leap forward is expected regarding exoplanet detailed characterisation. The goal is to understand the nature of the exoplanetary bodies and their formation and evolutionary histories through remote sensing of their atmospheres. JWST is measuring a select sample of key transiting exoplanets while Ariel will take this methodology to the next level by analysing over 1000 planets. And in the farther future\, extremely large telescopes or interferometers\, both on the ground and in space\, should permit the measurement of temperate rocky planet atmospheres and\, perhaps\, the solid identification of molecules of biological interest\, which will truly be a revolutionary finding. In this talk\, the state of the art of exoplanet research will be described and the main future exoplanet facilities will be presented and put in context. \nFecha: 13/02/2025 – 12:30Conferenciante: Dr. Ignasi RibasFiliación: ICE – CSIC \n 
URL:https://www.iaa.csic.es/evento/so-colloquium-present-and-future-of-exoplanet-research/
LOCATION:IAA – CSIC\, Glorieta de la Astronomía\, Granada\, España
CATEGORIES:SO Colloquium
ATTACH;FMTTYPE=image/png:https://www.iaa.csic.es/wp-content/uploads/2025/07/SO-COLLOQUIUM.png
END:VEVENT
END:VCALENDAR