BEGIN:VCALENDAR
VERSION:2.0
PRODID:-//Instituto de Astrofísica de Andalucía - ECPv6.15.20//NONSGML v1.0//EN
CALSCALE:GREGORIAN
METHOD:PUBLISH
X-ORIGINAL-URL:https://www.iaa.csic.es
X-WR-CALDESC:Eventos para Instituto de Astrofísica de Andalucía
REFRESH-INTERVAL;VALUE=DURATION:PT1H
X-Robots-Tag:noindex
X-PUBLISHED-TTL:PT1H
BEGIN:VTIMEZONE
TZID:Europe/Paris
BEGIN:DAYLIGHT
TZOFFSETFROM:+0100
TZOFFSETTO:+0200
TZNAME:CEST
DTSTART:20240331T010000
END:DAYLIGHT
BEGIN:STANDARD
TZOFFSETFROM:+0200
TZOFFSETTO:+0100
TZNAME:CET
DTSTART:20241027T010000
END:STANDARD
BEGIN:DAYLIGHT
TZOFFSETFROM:+0100
TZOFFSETTO:+0200
TZNAME:CEST
DTSTART:20250330T010000
END:DAYLIGHT
BEGIN:STANDARD
TZOFFSETFROM:+0200
TZOFFSETTO:+0100
TZNAME:CET
DTSTART:20251026T010000
END:STANDARD
BEGIN:DAYLIGHT
TZOFFSETFROM:+0100
TZOFFSETTO:+0200
TZNAME:CEST
DTSTART:20260329T010000
END:DAYLIGHT
BEGIN:STANDARD
TZOFFSETFROM:+0200
TZOFFSETTO:+0100
TZNAME:CET
DTSTART:20261025T010000
END:STANDARD
END:VTIMEZONE
BEGIN:VEVENT
DTSTART;TZID=Europe/Paris:20250121T090000
DTEND;TZID=Europe/Paris:20251030T170000
DTSTAMP:20260420T234839
CREATED:20241219T121029Z
LAST-MODIFIED:20250912T080532Z
UID:22550-1737450000-1761843600@www.iaa.csic.es
SUMMARY:Academic Spanish Course for Foreigners (2025)
DESCRIPTION:The Academic Spanish course for foreigners is designed to facilitate effective communication in academic and profesional contexts. Through a practical and personalized focus\, the participants will develop essential linguistic abilities to discuss scientific articles\, participate in conferences\, give presentations\, and collaborate in international projects. The program includes technical vocabulary\, beginner and advanced grammar\, and simulations of real-life situations. Moreover\, it will promote the cultural immersion to strengthen the comprehension of the Hispanic world\, and their impact on interdisciplinary investigation and collaboration. \nThis course will be taught throughout in the following blocks: \nJanuary 21st – February 27thApril 22nd – May 29thSeptember 23rd – October 30thThe course is taught by Prof. Nazira Ruíz
URL:https://www.iaa.csic.es/evento/academic-spanish-course-for-foreigners-2025/
LOCATION:IAA – CSIC\, Glorieta de la Astronomía\, Granada\, España
CATEGORIES:SO Training
ATTACH;FMTTYPE=image/jpeg:https://www.iaa.csic.es/wp-content/uploads/2024/12/academicspanish.jpg
END:VEVENT
BEGIN:VEVENT
DTSTART;VALUE=DATE:20250603
DTEND;VALUE=DATE:20250606
DTSTAMP:20260420T234839
CREATED:20250605T112049Z
LAST-MODIFIED:20250605T112243Z
UID:25772-1748908800-1749167999@www.iaa.csic.es
SUMMARY:NOMAD SWT #27
DESCRIPTION:Reunión del Science Working Team del instrumento NOMAD \nLOCFrancisco González GalindoAdrián Brines MontoroMiguel Angel López ValverdeMiguel Ángel Gamonal García-GalánPablo Rodriguez Ovalle
URL:https://www.iaa.csic.es/evento/nomad-swt-27/
LOCATION:Almuñecar\, Paseo del Tesorillo\, Almuñecar\, 18690\, España
CATEGORIES:Workshops
ATTACH;FMTTYPE=image/png:https://www.iaa.csic.es/wp-content/uploads/2023/11/congresscover-2-e1752660237822.png
END:VEVENT
BEGIN:VEVENT
DTSTART;TZID=Europe/Paris:20250603T123000
DTEND;TZID=Europe/Paris:20250603T133000
DTSTAMP:20260420T234839
CREATED:20250530T084051Z
LAST-MODIFIED:20250530T084054Z
UID:25721-1748953800-1748957400@www.iaa.csic.es
SUMMARY:Towards an observationally motivated AGN dusty torus model
DESCRIPTION:Several models of nuclear dust in active galactic nuclei (AGN) have been presented in the literature to determine its physical and geometrical properties\, usually assuming the dust density distribution as the main aspect producing differences in the mid-infrared (MIR) emission of AGNs. My PhD research investigates the physical and chemical properties of dust in the torus of AGNs using MIR spectral analysis and radiative transfer (RT) modeling. First\, we determined an observationally motivated dust composition by fitting a mineralogy model to Spitzer/IRS spectra of 49 nearby AGNs showing silicate emission at 10 μm. We found that porous alumina\, periclase\, and olivine grains of 0.1 μm dominate the fits\, while traditional astronomical silicates are rarely favored. Subsequently\, we constructed a large RT model grid that explores a parameter space defined by key physical properties of the torus. We focused on the effects of dust density distribution (smooth\, clumpy\, and two-phase) and dust composition on the MIR spectral energy distribution (SED). The resulting synthetic SEDs were analysed through model-to-model and model-to-observation comparisons. We found that both dust distribution and composition significantly influence the silicate feature strengths and spectral slopes. In this talk\, I will present the main results and discuss the principal effects of the density distribution and chemical composition of dust in the MIR SED. \nFecha: 03/06/2025 – 12:30Ulises Reyes AmadorFiliación: IRYA-UNAM\, México \n 
URL:https://www.iaa.csic.es/evento/towards-an-observationally-motivated-agn-dusty-torus-model/
LOCATION:IAA – CSIC\, Glorieta de la Astronomía\, Granada\, España
CATEGORIES:Seminarios
ATTACH;FMTTYPE=image/png:https://www.iaa.csic.es/wp-content/uploads/2023/11/seminarscover-e1752660087307.png
END:VEVENT
END:VCALENDAR