BEGIN:VCALENDAR
VERSION:2.0
PRODID:-//Instituto de Astrofísica de Andalucía - ECPv6.15.20//NONSGML v1.0//EN
CALSCALE:GREGORIAN
METHOD:PUBLISH
X-WR-CALNAME:Instituto de Astrofísica de Andalucía
X-ORIGINAL-URL:https://www.iaa.csic.es
X-WR-CALDESC:Eventos para Instituto de Astrofísica de Andalucía
REFRESH-INTERVAL;VALUE=DURATION:PT1H
X-Robots-Tag:noindex
X-PUBLISHED-TTL:PT1H
BEGIN:VTIMEZONE
TZID:Europe/Paris
BEGIN:DAYLIGHT
TZOFFSETFROM:+0100
TZOFFSETTO:+0200
TZNAME:CEST
DTSTART:20250330T010000
END:DAYLIGHT
BEGIN:STANDARD
TZOFFSETFROM:+0200
TZOFFSETTO:+0100
TZNAME:CET
DTSTART:20251026T010000
END:STANDARD
BEGIN:DAYLIGHT
TZOFFSETFROM:+0100
TZOFFSETTO:+0200
TZNAME:CEST
DTSTART:20260329T010000
END:DAYLIGHT
BEGIN:STANDARD
TZOFFSETFROM:+0200
TZOFFSETTO:+0100
TZNAME:CET
DTSTART:20261025T010000
END:STANDARD
BEGIN:DAYLIGHT
TZOFFSETFROM:+0100
TZOFFSETTO:+0200
TZNAME:CEST
DTSTART:20270328T010000
END:DAYLIGHT
BEGIN:STANDARD
TZOFFSETFROM:+0200
TZOFFSETTO:+0100
TZNAME:CET
DTSTART:20271031T010000
END:STANDARD
END:VTIMEZONE
BEGIN:VEVENT
DTSTART;VALUE=DATE:20260418
DTEND;VALUE=DATE:20260504
DTSTAMP:20260423T040703
CREATED:20260417T101048Z
LAST-MODIFIED:20260420T080043Z
UID:31070-1776470400-1777852799@www.iaa.csic.es
SUMMARY:Exposición ‘La ciencia de Mortadelo y Filemón’
DESCRIPTION:Francisco Ibáñez (1936-2023) fue\, a su modo\, un gran aliado de la ciencia. El creador de los inolvidables Mortadelo y Filemón combinó en sus historietas el humor y la investigación científica con un ingenio mordaz\, mostrando la ciencia como un fenómeno cotidiano\, torpe\, exagerado y\, a veces\, absurdo. Pero siempre humano. A través de una selección de 39 portadas protagonizadas por estos míticos personajes\, el Consejo Superior de Investigaciones Científicas (CSIC) ha querido rendir homenaje a Ibáñez y a la comunidad científica a través de la exposición La ciencia de Mortadelo y Filemón. Crónicas disparatadas de la investigación en España. La muestra\, que ha sido producida por la Vicepresidencia de Cultura Científica y Ciencia Ciudadana del CSIC y cuenta con la colaboración de Penguin Random House Grupo Editorial\, se ha inaugurado este viernes 17 de abril en el patio del Ayuntamiento de Granada con la presencia de diversas autoridades. La exposición\, que se enmarca como una de las actividades estrella del Desgranando Fest –festival de ciencia en la provincia de Granada– y coincide con la Feria del Libro de Granada\, – donde el CSIC instala el Área de Ciencia–\, permanecerá en esta sede hasta el 3 de mayo de 2026. \nTres expertos del CSIC han colaborado en La ciencia de Mortadelo y Filemón: Fernando del Blanco\, del Centro de Investigación y Desarrollo (CID-CSIC)\, y Jon Arrizabalaga y Alfons Zarzoso\, de la Institución Mila y Fontanals (IMF-CSIC). \nLa muestra se estrenó en el Museo Casa de la Ciencia de Sevilla\, del CSIC\, el pasado 28 de noviembre de 2025\, con la presencia de varias autoridades y la hija del autor. Granada es la segunda sede\, tras Bruselas\, de una itinerancia que durará dos años. Tras su paso por Granada recorrerá otras ciudades españolas\, entre ellas Oviedo y Zaragoza. \n  \nObjetivo eliminar al “Rana” (1993) \n  \nUna exposición\, cinco secciones \nLa ciencia de Mortadelo y Filemón propone un recorrido visual y temático a través de portadas publicadas entre 1975 y 2018 que se dividen en cinco secciones. La primera es Un mundo en movimiento bajo la lupa de la ciencia\, un repaso por portadas en las que Ibáñez emplea su peculiar humor para explorar y retratar la relación entre ciencia\, naturaleza y sociedad\, con referencias que van desde el deshielo de glaciares hasta las epidemias\, pasando por los últimos descubrimientos en producción agrícola. \nEn Innovaciones tecnológicas incorporadas por la T.I.A. se recogen algunos de los inventos desarrollados o utilizados por esta agencia de espionaje\, que en no pocas ocasiones llevaban al caos. Pero la sátira del dibujante recuerda que la innovación solo tiene sentido si resuelve un problema real. Por su parte\, el Profesor Bacterio encarna lo mejor y lo peor del arquetipo del científico loco. \nLa sección El laboratorio de Bacterio\, aciertos y accidentes caricaturiza\, a través del humor\, los límites de la ciencia y recuerda los riesgos de separarla del sentido común porque\, cuando se trata de hacer investigación\, la ética y la seguridad no son opcionales. \nEn La ciencia en el espejo social de Mortadelo y Filemón los personajes son testigos de cómo la ciencia se negocia\, se distorsiona y\, a veces\, se malinterpreta. De ahí la importancia de difundir las investigaciones e innovaciones con rigor\, evidencia y responsabilidad. En las portadas seleccionadas hay sitio para la pseudociencia\, la vida en la prehistoria o la que existe más allá de nuestra galaxia. \nCierra la muestra la sección Ciencia de emergencia para tiempos revueltos. Ibáñez quiso arrancar una carcajada en medio del desastre. El cambio climático\, la contaminación\, los mosquitos invasores o las nubes de polvo sahariano son algunas de las amenazas a las que se enfrentan Mortadelo y Filemón con más o menos éxito en el último tramo de la exposición. \n  \nNuestro antepasado\, el mico (2010) \n  \nWeb\, catálogo e itinerancia \nUna web\, lacienciademortadeloyfilemon.csic.es\, amplía los contenidos de la exposición. En cada sección el visitante puede conocer a través de códigos QR las investigaciones reales desarrolladas por el CSIC en las áreas científicas que reflejan las portadas de Ibañez\, y relacionar así el imaginario humorístico del autor con la ciencia puntera que se desarrolla en la primera institución pública de investigación de España. \nAdemás\, la muestra va acompañada de un catálogo que recoge todas las portadas y los textos de la exposición. La ciencia de Mortadelo y Filemón itinerará durante 2026 y 2027 por las delegaciones y centros de divulgación del CSIC en toda España\, así como por otros museos de ciencia. \n  \nEl coche eléctrico (2013) \n  \nUn estilo propio \nFrancisco Ibáñez fue un prolífico autor que trabajó durante décadas en la editorial Bruguera. Allí creó numerosos personajes\, pero fue con Mortadelo y Filemón\, nacidos en enero de 1958\, con quienes alcanzó un éxito masivo. Su estilo se caracterizó por el humor visual\, los juegos de palabras\, la crítica social y una capacidad inigualable para reflejar la actualidad a través de la sátira. \nLas aventuras de sus famosos personajes (marcadas por el caos del profesor Bacterio y los inventos imposibles de la T.I.A.) se hacen eco de asuntos científicos del momento: las consecuencias ambientales de nuestra huella en el planeta\, los primeros trasplantes de órganos\, las propagaciones de enfermedades\, la ingeniería genética\, la deforestación e incluso los avances en el estudio de la evolución humana. \n  \nMortadelo y Filemón\, creados por Francisco Ibáñez\, protagonizan la nueva exposición del CSIC. \n  \nLa presentación de la exposición en Granada\, en fotos \n \n  \n 
URL:https://www.iaa.csic.es/evento/exposicion-la-ciencia-de-mortadelo-y-filemon/
LOCATION:Ayuntamiento de Granada\, Plaza del Carmen\, 3\, Centro\, Granada\, Granada\, 18009\, Spain
CATEGORIES:Actividades
ATTACH;FMTTYPE=image/jpeg:https://www.iaa.csic.es/wp-content/uploads/2026/04/Mortadelo-y-Filemon-creados-por-Francisco-Ibanez-protagonizan-la-nueva-exposicion-del-CSIC.jpg
END:VEVENT
BEGIN:VEVENT
DTSTART;TZID=Europe/Paris:20260423T103000
DTEND;TZID=Europe/Paris:20260502T140000
DTSTAMP:20260423T040703
CREATED:20260401T105730Z
LAST-MODIFIED:20260420T092009Z
UID:30531-1776940200-1777730400@www.iaa.csic.es
SUMMARY:Área de la Ciencia - Feria del Libro de Granada 2026
DESCRIPTION:Un año más\, el Instituto de Astrofísica de Andalucía (IAA-CSIC) y la Estación Experimental del Zaidín (EEZ-CSIC) se unen para coordinar el “Área de la Ciencia” en la Feria del Libro de Granada\, un espacio dedicado a la divulgación científica para todos los públicos. \nDel 23 de abril al 2 de mayo\, el Área de Ciencia albergará más de cuarenta actividades totalmente gratuitas en pleno centro de la ciudad: talleres\, charlas\, presentaciones de libros\, pódcast en directo\, … Se trata de la novena edición de una iniciativa pionera en la que ciencia y literatura comparten espacio\, tiempo y público\, una fórmula que ha empezado a implantarse ya en otras ferias del libro. Cuenta con el apoyo del CSIC a través de la Vicepresidencia Adjunta de Cultura Científica y Ciencia Ciudadana y de la Delegación para Andalucía y Extremadura\, y la colaboración de ESERO-Spain\, proyecto educativo de la Agencia Espacial Europea liderado en España por el Parque de las Ciencias de Granada. \nLas actividades del Área de la Ciencia de la Feria del Libro de Granada se entroncan dentro de la programación del Desgranando Fest\, un festival de divulgación científica del 18 al 26 de abril \nPROGRAMACIÓN ÁREA DE LA CIENCIA FERIA DEL LIBRO DE GRANADA \nDel 23 de abril al 2 de mayo de 2026 \n			\n			\n				\n				\n				\n				\n			\n				\n				\n			\n				\n				\n				\n				\n				\n				\n				\n				\n				\n				\n				\n				\n				\n				\n				\n				\n				\n				JUEVES 23 DE ABRIL\n			\n				\n				\n				\n				\n				Mañana \n			\n			\n				\n				\n				\n				\n			\n				\n				\n				\n				\n				\n				\n				\n				\n				\n				\n				10:30 h \n			\n			\n				\n				\n				\n				\n				\n				\n				\n				\n				\n				Talleres escolares  \n  \n			\n			\n				\n				\n				\n				\n				\n			\n				\n				\n				\n				\n			\n				\n				\n				\n				\n				\n				\n				\n				\n				\n				\n				Tarde \n			\n			\n				\n				\n				\n				\n			\n				\n				\n				\n				\n				\n				\n				\n				\n				\n				\n				17:30 h \n			\n			\n				\n				\n				\n				\n				\n				\n				\n				\n				\n				Taller infantil \n			\n			\n				\n				\n				\n				\n				\n			\n				\n				\n				\n				\n			\n				\n				\n				\n				\n				\n				\n				\n				\n				\n				\n				19:00 h \n			\n			\n				\n				\n				\n				\n				\n				\n				\n				\n				\n				 ¿Quién quiere ser… de Graná?Montserrat Benítez & Estefanía ValenzuelaEscuela de Estudios Árabes (EEA-CSIC)Concurso divulgativo \n			\n			\n				\n				\n				\n				\n				\n				\n				\n				\n				\n				\n			\n				\n				\n				\n				\n				\n			\n				\n				\n				\n				\n				\n			\n			\n				\n				\n				\n				\n			\n				\n				\n				\n				\n				\n				\n				\n				\n				\n				\n				20:00 h \n			\n			\n				\n				\n				\n				\n				\n				\n				\n				\n				\n				Recetas del talento científico:¿genios o cabezotas?Elena González ReyInstituto de Parasitología y BiomedicinaLópez Neyra (IPBLN-CSIC)Conferencia de divulgación \n			\n			\n				\n				\n				\n				\n				\n				\n				\n				\n				\n				\n			\n				\n				\n				\n				\n				\n			\n			\n				\n				\n				\n				\n			\n				\n				\n			\n				\n				\n				\n				\n				\n				\n				\n				\n				\n				\n				\n				\n				\n			\n				\n				\n				\n				\n			\n				\n				\n				\n				\n				\n				\n				\n				\n				\n				\n				VIERNES 24 DE ABRIL\n			\n				\n				\n				\n				\n				Mañana \n			\n			\n				\n				\n				\n				\n			\n				\n				\n				\n				\n				\n				\n				\n				\n				\n				\n				10:30 h \n			\n			\n				\n				\n				\n				\n				\n				\n				\n				\n				\n				Talleres escolares \n  \n			\n			\n				\n				\n				\n				\n				\n			\n				\n				\n				\n				\n			\n				\n				\n				\n				\n				\n				\n				\n				\n				\n				\n				Tarde \n			\n			\n				\n				\n				\n				\n			\n				\n				\n				\n				\n				\n				\n				\n				\n				\n				\n				17:30 h \n			\n			\n				\n				\n				\n				\n				\n				\n				\n				\n				\n				Taller infantil \n			\n			\n				\n				\n				\n				\n				\n				\n				\n				\n				\n				\n			\n			\n				\n				\n				\n				\n			\n				\n				\n				\n				\n				\n				\n				\n				\n				\n				\n				19:00 h \n			\n			\n				\n				\n				\n				\n				\n				\n				\n				\n				\n				Otra historia de la música ¿Qué pensaría Bach de la música actual?Somos BMiguel Ángel CajigalEl BarroquistaPresentación de libro \n			\n			\n				\n				\n				\n				\n				\n				\n				\n				\n				\n				\n			\n				\n				\n				\n				\n				\n			\n				\n				\n				\n				\n				\n			\n			\n				\n				\n				\n				\n			\n				\n				\n				\n				\n				\n				\n				\n				\n				\n				\n				20:00 h \n			\n			\n				\n				\n				\n				\n				\n				\n				\n				\n				\n				Los insectos comestibles Editorial CSIC y CatarataLigia DíazInstituto de Ciencia y Tecnología de Alimentos y Nutrición (ICTAN-CSIC)Presentación de libro \n			\n			\n				\n				\n				\n				\n				\n				\n				\n				\n				\n				\n			\n				\n				\n				\n				\n				\n			\n				\n				\n				\n				\n				\n			\n			\n				\n				\n				\n				\n			\n				\n				\n				\n				\n				\n				\n				\n				\n				\n				\n				21:00 h \n			\n			\n				\n				\n				\n				\n				\n				\n				\n				\n				\n				Lo que vale la cienciaEspecial Noche en blancoColectivo del Sainete TrágicoPequeña obra de teatro científico \n			\n			\n				\n				\n				\n				\n				\n				\n				\n				\n				\n				\n			\n			\n				\n				\n				\n				\n			\n				\n				\n			\n				\n				\n				\n				\n				\n				\n				\n				\n				\n				\n				\n				\n				\n				\n				\n				\n				\n				SÁBADO 25 DE ABRIL\n			\n				\n				\n				\n				\n				Mañana \n			\n			\n				\n				\n				\n				\n			\n				\n				\n				\n				\n				\n				\n				\n				\n				\n				\n				11:00 h \n			\n			\n				\n				\n				\n				\n				\n				\n				\n				\n				\n				Taller infantil \n			\n			\n				\n				\n				\n				\n				\n				\n				\n				\n				\n				\n			\n			\n				\n				\n				\n				\n			\n				\n				\n				\n				\n				\n				\n				\n				\n				\n				\n				12:30 h \n			\n			\n				\n				\n				\n				\n				\n				\n				\n				\n				\n				La delgada línea entre la locura y la creatividadBinomioClara Peñalver & Javier S. BurgosPresentación de libro \n			\n			\n				\n				\n				\n				\n				\n				\n				\n				\n				\n				\n			\n				\n				\n				\n				\n				\n			\n				\n				\n				\n				\n				\n			\n				\n				\n				\n				\n				\n			\n			\n				\n				\n				\n				\n			\n				\n				\n				\n				\n				\n				\n				\n				\n				\n				\n				Tarde \n			\n			\n				\n				\n				\n				\n			\n				\n				\n				\n				\n				\n				\n				\n				\n				\n				\n				17:00 h  \n			\n			\n				\n				\n				\n				\n				\n				\n				\n				\n				\n				Viaja al radiotelescopio que leerá todo el cieloPlazas de CienciaEquipo SKAO-EspañaInstituto de Astrofísica de Andalucía (IAA-CSIC)Mesa de Realidad Virtual \n\n			\n			\n				\n				\n				\n				\n				\n				\n				\n				\n				\n				\n			\n				\n				\n				\n				\n				\n			\n				\n				\n				\n				\n				\n			\n				\n				\n				\n				\n				\n			\n			\n				\n				\n				\n				\n			\n				\n				\n				\n				\n				\n				\n				\n				\n				\n				\n				19:30 h \n			\n			\n				\n				\n				\n				\n				\n				\n				\n				\n				\n				Le seré sincero\, no pinta bienUn viaje a través del arte y la enfermedadCríticaÁlvaro CarmonaUniversidad Loyola AndalucíaPresentación de libro \n			\n			\n				\n				\n				\n				\n				\n				\n				\n				\n				\n				\n			\n				\n				\n				\n				\n				\n			\n				\n				\n				\n				\n				\n			\n			\n				\n				\n				\n				\n			\n				\n				\n				\n				\n				\n				\n				\n				\n				\n				\n				20:30 h \n			\n			\n				\n				\n				\n				\n				\n				\n				\n				\n				\n				¿El universo se está vaciando? La Tensión de HubbleRaúl González DíazInstituto de Astrofísica de Andalucía (IAA-CSIC)Conferencia de divulgación \n			\n			\n				\n				\n				\n				\n				\n				\n				\n				\n				\n				\n			\n			\n				\n				\n				\n				\n			\n				\n				\n			\n				\n				\n				\n				\n				\n				\n				\n				\n				\n				\n				\n				\n				\n				\n				\n				\n				\n				DOMINGO 26 DE ABRIL\n			\n				\n				\n				\n				\n				Mañana \n			\n			\n				\n				\n				\n				\n			\n				\n				\n				\n				\n				\n				\n				\n				\n				\n				\n				11:00 h \n			\n			\n				\n				\n				\n				\n				\n				\n				\n				\n				\n				Taller infantil \n  \n			\n			\n				\n				\n				\n				\n				\n				\n				\n				\n				\n				\n			\n			\n				\n				\n				\n				\n			\n				\n				\n				\n				\n				\n				\n				\n				\n				\n				\n				12:30 h \n			\n			\n				\n				\n				\n				\n				\n				\n				\n				\n				\n				TiburonesEditorial CSIC y CatarataAnabel ColmeneroInstitut de Ciències del Mar (ICM-CSIC)Presentación de libro \n			\n			\n				\n				\n				\n				\n				\n				\n				\n				\n				\n				\n			\n				\n				\n				\n				\n				\n			\n				\n				\n				\n				\n				\n			\n			\n				\n				\n				\n				\n			\n				\n				\n				\n				\n				\n				\n				\n				\n				\n				\n				Tarde \n			\n			\n				\n				\n				\n				\n			\n				\n				\n				\n				\n				\n				\n				\n				\n				\n				\n				17:30 h \n			\n			\n				\n				\n				\n				\n				\n				\n				\n				\n				\n				Explorando el universo más extremoPlazas de CienciaGrupo VHEGA-CTAOInstituto de Astrofísica de Andalucía (IAA-CSIC)Mesa de Realidad Virtual \n\n  \n			\n			\n				\n				\n				\n				\n				\n				\n				\n				\n				\n				\n			\n				\n				\n				\n				\n				\n			\n				\n				\n				\n				\n				\n			\n				\n				\n				\n				\n				\n			\n			\n				\n				\n				\n				\n			\n				\n				\n				\n				\n				\n				\n				\n				\n				\n				\n				19:30 h \n			\n			\n				\n				\n				\n				\n				\n				\n				\n				\n				\n				Historias de ballenas y otros cetáceosGuadalmazánAna J. CáceresMylestringPresentación de libro \n			\n			\n				\n				\n				\n				\n				\n				\n				\n				\n				\n				\n			\n				\n				\n				\n				\n				\n			\n				\n				\n				\n				\n				\n			\n			\n				\n				\n				\n				\n			\n				\n				\n				\n				\n				\n				\n				\n				\n				\n				\n				20:30 h \n			\n			\n				\n				\n				\n				\n				\n				\n				\n				\n				\n				Minerales críticos: los recursos invisibles de nuestro futuroConcepción Fernández LeyvaInstituto Geológico y Minero de España (IGME-CSIC)Conferencia de divulgación \n			\n			\n				\n				\n				\n				\n				\n				\n				\n				\n				\n				\n			\n			\n				\n				\n				\n				\n			\n				\n				\n			\n				\n				\n				\n				\n				\n				\n				\n				\n				\n				\n				\n				\n				\n				\n				\n				\n				\n				LUNES 27 DE ABRIL\n			\n				\n				\n				\n				\n				Mañana \n			\n			\n				\n				\n				\n				\n			\n				\n				\n				\n				\n				\n				\n				\n				\n				\n				\n				\n			\n			\n				\n				\n				\n				\n				\n				\n				\n				\n				\n				Talleres escolares  \n			\n			\n				\n				\n				\n				\n				\n			\n				\n				\n				\n				\n			\n				\n				\n				\n				\n				\n				\n				\n				\n				\n				\n				Tarde \n			\n			\n				\n				\n				\n				\n			\n				\n				\n				\n				\n				\n				\n				\n				\n				\n				\n				17:00 h \n			\n			\n				\n				\n				\n				\n				\n				\n				\n				\n				\n				Taller infantil/inclusivo \n			\n			\n				\n				\n				\n				\n				\n				\n				\n				\n				\n				\n			\n				\n				\n				\n				\n				\n			\n			\n				\n				\n				\n				\n			\n				\n				\n				\n				\n				\n				\n				\n				\n				\n				\n				19:00 h \n			\n			\n				\n				\n				\n				\n				\n				\n				\n				\n				\n				Violencia de género\, cerebro y emoción: comprender para reparar María Pérez\, Julia Arnal\,Inma Garrido & Andrea BenítezUniversidad de Granada (UGR)Conferencia de divulgación \n			\n			\n				\n				\n				\n				\n				\n				\n				\n				\n				\n				\n			\n				\n				\n				\n				\n				\n			\n				\n				\n				\n				\n				\n			\n				\n				\n				\n				\n				\n			\n				\n				\n				\n				\n				\n			\n			\n				\n				\n				\n				\n			\n				\n				\n				\n				\n				\n				\n				\n				\n				\n				\n				20:00 h \n			\n			\n				\n				\n				\n				\n				\n				\n				\n				\n				\n				El suelo: clave para una agricultura sostenible y circularBeatriz Gómez MuñozEstación Experimental del Zaidín (EEZ-CSIC)​Conferencia de divulgación \n			\n			\n				\n				\n				\n				\n				\n				\n				\n				\n				\n				\n			\n			\n				\n				\n				\n				\n			\n				\n				\n			\n				\n				\n				\n				\n				\n				\n				\n				\n				\n				\n				\n				\n				\n				\n				\n				\n				\n				MARTES 28 DE ABRIL\n			\n				\n				\n				\n				\n				Mañana \n			\n			\n				\n				\n				\n				\n			\n				\n				\n				\n				\n				\n				\n				\n				\n				\n				\n				10:30 h \n			\n			\n				\n				\n				\n				\n				\n				\n				\n				\n				\n				Talleres escolares \n			\n			\n				\n				\n				\n				\n				\n			\n				\n				\n				\n				\n			\n				\n				\n				\n				\n				\n				\n				\n				\n				\n				\n				Tarde \n			\n			\n				\n				\n				\n				\n			\n				\n				\n				\n				\n				\n				\n				\n				\n				\n				\n				17:30 h \n			\n			\n				\n				\n				\n				\n				\n				\n				\n				\n				\n				Taller infantil \n			\n			\n				\n				\n				\n				\n				\n				\n				\n				\n				\n				\n			\n				\n				\n				\n				\n				\n			\n			\n				\n				\n				\n				\n			\n				\n				\n				\n				\n				\n				\n				\n				\n				\n				\n				19:00 h \n			\n			\n				\n				\n				\n				\n				\n				\n				\n				\n				\n				Leche materna y fórmulas de nueva generación:la importancia de la nutrición en los primeros meses de vidaLeticia BenavidesEstación Experimental del Zaidín (EEZ-CSIC)Conferencia de divulgación \n			\n			\n				\n				\n				\n				\n				\n				\n				\n				\n				\n				\n			\n				\n				\n				\n				\n				\n			\n			\n				\n				\n				\n				\n			\n				\n				\n				\n				\n				\n				\n				\n				\n				\n				\n				20:00 h \n			\n			\n				\n				\n				\n				\n				\n				\n				\n				\n				\n				Homo Imperfectus: el manual de quejas del cuerpo humanoEspasaInés Moreno SanchezLa Traumatóloga GeekPresentación de libro \n			\n			\n				\n				\n				\n				\n				\n				\n				\n				\n				\n				\n			\n				\n				\n				\n				\n				\n			\n			\n				\n				\n				\n				\n			\n				\n				\n			\n				\n				\n				\n				\n				\n				\n				\n				\n				\n				\n				\n				\n				\n				\n				\n				\n				\n				MIÉRCOLES 29 DE ABRIL\n			\n				\n				\n				\n				\n				Mañana \n			\n			\n				\n				\n				\n				\n			\n				\n				\n				\n				\n				\n				\n				\n				\n				\n				\n				\n			\n			\n				\n				\n				\n				\n				\n				\n				\n				\n				\n				Talleres escolares \n			\n			\n				\n				\n				\n				\n				\n			\n				\n				\n				\n				\n			\n				\n				\n				\n				\n				\n				\n				\n				\n				\n				\n				Tarde \n			\n			\n				\n				\n				\n				\n			\n				\n				\n				\n				\n				\n				\n				\n				\n				\n				\n				17:00 h \n			\n			\n				\n				\n				\n				\n				\n				\n				\n				\n				\n				Taller infantil \n			\n			\n				\n				\n				\n				\n				\n				\n				\n				\n				\n				\n			\n				\n				\n				\n				\n				\n			\n			\n				\n				\n				\n				\n			\n				\n				\n				\n				\n				\n				\n				\n				\n				\n				\n				19:00 h \n			\n			\n				\n				\n				\n				\n				\n				\n				\n				\n				\n				Carlos V y su legado universitario en GranadaMiriam TejeroUniversidad de Granada (UGR)Conferencia de divulgación \n			\n			\n				\n				\n				\n				\n				\n				\n				\n				\n				\n				\n			\n				\n				\n				\n				\n				\n			\n			\n				\n				\n				\n				\n			\n				\n				\n				\n				\n				\n				\n				\n				\n				\n				\n				20:00 h \n			\n			\n				\n				\n				\n				\n				\n				\n				\n				\n				\n				Ingeniería tisular en Granada: del laboratorio de Histología a losprimeros medicamentos vivos en la clínicaJesús Chato-Astrain y Fernando CamposUniversidad de Granada (UGR)Conferencia de divulgación \n			\n			\n				\n				\n				\n				\n				\n				\n				\n				\n				\n				\n			\n				\n				\n				\n				\n				\n			\n			\n				\n				\n				\n				\n			\n				\n				\n			\n				\n				\n				\n				\n				\n				\n				\n				\n				\n				\n				\n				\n				\n				\n				\n				\n				\n				JUEVES 30 DE ABRIL\n			\n				\n				\n				\n				\n				Mañana \n			\n			\n				\n				\n				\n				\n			\n				\n				\n				\n				\n				\n				\n				\n				\n				\n				\n				10:30 h \n			\n			\n				\n				\n				\n				\n				\n				\n				\n				\n				\n				Talleres escolares \n			\n			\n				\n				\n				\n				\n				\n			\n				\n				\n				\n				\n			\n				\n				\n				\n				\n				\n				\n				\n				\n				\n				\n				Tarde \n			\n			\n				\n				\n				\n				\n			\n				\n				\n				\n				\n				\n				\n				\n				\n				\n				\n				17:30 h \n			\n			\n				\n				\n				\n				\n				\n				\n				\n				\n				\n				Taller infantil \n			\n			\n				\n				\n				\n				\n				\n				\n				\n				\n				\n				\n			\n			\n				\n				\n				\n				\n			\n				\n				\n				\n				\n				\n				\n				\n				\n				\n				\n				19:00 h \n			\n			\n				\n				\n				\n				\n				\n				\n				\n				\n				\n				EclipsesCiencia para leerDirige y presenta Carmen Guerrero (CSIC)Con la ilustradora Noemí Fabra& Alejandro Sánchez de Miguel  (IAA-CSIC)Podcast en directo \n			\n			\n				\n				\n				\n				\n				\n				\n				\n				\n				\n				\n			\n				\n				\n				\n				\n				\n			\n				\n				\n				\n				\n				\n			\n				\n				\n				\n				\n				\n			\n				\n				\n				\n				\n				\n			\n				\n				\n				\n				\n				\n			\n				\n				\n				\n				\n				\n			\n			\n				\n				\n				\n				\n			\n				\n				\n				\n				\n				\n				\n				\n				\n				\n				\n				20:00 h \n			\n			\n				\n				\n				\n				\n				\n				\n				\n				\n				\n				Las FuriasClara Peñalver\, Marga SánchezRomero & Susana EscuderoCon Rocío Benavente (periodista y verificadora)Podcast en directo \n			\n			\n				\n				\n				\n				\n				\n				\n				\n				\n				\n				\n			\n				\n				\n				\n				\n				\n			\n				\n				\n				\n				\n				\n			\n				\n				\n				\n				\n				\n			\n			\n				\n				\n				\n				\n			\n				\n				\n			\n				\n				\n				\n				\n				\n				\n				\n				\n				\n				\n				\n				\n				\n				\n				\n				\n				\n				VIERNES 1 DE MAYO\n			\n				\n				\n				\n				\n				Mañana \n			\n			\n				\n				\n				\n				\n			\n				\n				\n				\n				\n				\n				\n				\n				\n				\n				\n				11:00 h \n			\n			\n				\n				\n				\n				\n				\n				\n				\n				\n				\n				Taller infantil \n			\n			\n				\n				\n				\n				\n				\n				\n				\n				\n				\n				\n			\n			\n				\n				\n				\n				\n			\n				\n				\n				\n				\n				\n				\n				\n				\n				\n				\n				12:30 h \n			\n			\n				\n				\n				\n				\n				\n				\n				\n				\n				\n				El dios incomprendido: el desafío del Clima en la historia de la humanidadDesperta Ferro EdicionesFrancisco JiménezInstituto Andaluz de Ciencias de la Tierra (IACT-CSIC)Presentación de libro \n			\n			\n				\n				\n				\n				\n				\n				\n				\n				\n				\n				\n			\n				\n				\n				\n				\n				\n			\n				\n				\n				\n				\n				\n			\n			\n				\n				\n				\n				\n			\n				\n				\n				\n				\n				\n				\n				\n				\n				\n				\n				Tarde \n			\n			\n				\n				\n				\n				\n			\n				\n				\n				\n				\n				\n				\n				\n				\n				\n				\n				17:00 h \n			\n			\n				\n				\n				\n				\n				\n				\n				\n				\n				\n				Taller infantil/inclusivo \n			\n			\n				\n				\n				\n				\n				\n				\n				\n				\n				\n				\n			\n			\n				\n				\n				\n				\n			\n				\n				\n				\n				\n				\n				\n				\n				\n				\n				\n				19:00 h \n			\n			\n				\n				\n				\n				\n				\n				\n				\n				\n				\n				Ni frío ni calorÓscar HuertasDesgranando FestConferencia de divulgación \n			\n			\n				\n				\n				\n				\n				\n				\n				\n				\n				\n				\n			\n				\n				\n				\n				\n				\n			\n			\n				\n				\n				\n				\n			\n				\n				\n				\n				\n				\n				\n				\n				\n				\n				\n				20:00 h \n			\n			\n				\n				\n				\n				\n				\n				\n				\n				\n				\n				El Espacio de nuestras vidasManuel GonzálezESERO-EspañaConferencia de divulgación \n			\n			\n				\n				\n				\n				\n				\n				\n				\n				\n				\n				\n			\n				\n				\n				\n				\n				\n			\n				\n				\n				\n				\n				\n			\n				\n				\n				\n				\n				\n			\n			\n				\n				\n				\n				\n			\n				\n				\n				\n				\n				\n				\n				\n				\n				\n				\n				SÁBADO 2 DE MAYO\n			\n				\n				\n				\n				\n				Mañana \n			\n			\n				\n				\n				\n				\n			\n				\n				\n				\n				\n				\n				\n				\n				\n				\n				\n				11:00 h \n			\n			\n				\n				\n				\n				\n				\n				\n				\n				\n				\n				Taller infantil \n			\n			\n				\n				\n				\n				\n				\n				\n				\n				\n				\n				\n			\n			\n				\n				\n				\n				\n			\n				\n				\n				\n				\n				\n				\n				\n				\n				\n				\n				12:30 h \n			\n			\n				\n				\n				\n				\n				\n				\n				\n				\n				\n				Ciencia ciudadana para reciclar residuosGermán Tortosa Estación Experimental del Zaidín (EEZ-CSIC) Conferencia de divulgación
URL:https://www.iaa.csic.es/evento/area-de-la-ciencia-feria-del-libro-de-granada-2026/
LOCATION:Fuente de las Granadas\, Pl. del Humilladero\, Granada\, Granada\, 18009\, España
CATEGORIES:Actividades
ATTACH;FMTTYPE=image/png:https://www.iaa.csic.es/wp-content/uploads/2026/04/IMAGEN-WEB-NUEVA-1.png
END:VEVENT
BEGIN:VEVENT
DTSTART;TZID=Europe/Paris:20260423T123000
DTEND;TZID=Europe/Paris:20260423T133000
DTSTAMP:20260423T040704
CREATED:20260416T115454Z
LAST-MODIFIED:20260416T115947Z
UID:31098-1776947400-1776951000@www.iaa.csic.es
SUMMARY:SO Colloquium – Metasurface enabled astronomical polarimetry
DESCRIPTION:The nanotechnology of metasurfaces is rapidly changing the landscape of applied optics. While traditional lensing systems may not benefit significantly from the new technology\, the ability of metasurfaces to manipulate light and its polarization state offers great advantages in applied polarimetry\, as in the case of the magnetic diagnostics of astrophysical plasmas. The Solar Imaging Metasurface Polarimeter (SIMPol) was a NASA funded project to demonstrate such a capability and advance the TRL of metasurfaces for application to polarimetrice observations from space. \nWe present the general concept of metasurface-enabled spectro-polarimetry\, as well as preliminary results from the test campaign of SIMPol at a major solar research facility. \nFecha y lugar: 23/04/2026 – 12:30 | Salón de ActosRoberto CasiniNSF NCAR \n\n 
URL:https://www.iaa.csic.es/evento/so-colloquium-tbd-metasurface-enabled-astronomical-polarimetry/
LOCATION:IAA – CSIC\, Glorieta de la Astronomía\, Granada\, España
CATEGORIES:Seminarios
ATTACH;FMTTYPE=image/png:https://www.iaa.csic.es/wp-content/uploads/2025/07/SO-COLLOQUIUM.png
END:VEVENT
END:VCALENDAR