BEGIN:VCALENDAR
VERSION:2.0
PRODID:-//Instituto de Astrofísica de Andalucía - ECPv6.15.20//NONSGML v1.0//EN
CALSCALE:GREGORIAN
METHOD:PUBLISH
X-WR-CALNAME:Instituto de Astrofísica de Andalucía
X-ORIGINAL-URL:https://www.iaa.csic.es
X-WR-CALDESC:Eventos para Instituto de Astrofísica de Andalucía
REFRESH-INTERVAL;VALUE=DURATION:PT1H
X-Robots-Tag:noindex
X-PUBLISHED-TTL:PT1H
BEGIN:VTIMEZONE
TZID:Europe/Paris
BEGIN:DAYLIGHT
TZOFFSETFROM:+0100
TZOFFSETTO:+0200
TZNAME:CEST
DTSTART:20230326T010000
END:DAYLIGHT
BEGIN:STANDARD
TZOFFSETFROM:+0200
TZOFFSETTO:+0100
TZNAME:CET
DTSTART:20231029T010000
END:STANDARD
BEGIN:DAYLIGHT
TZOFFSETFROM:+0100
TZOFFSETTO:+0200
TZNAME:CEST
DTSTART:20240331T010000
END:DAYLIGHT
BEGIN:STANDARD
TZOFFSETFROM:+0200
TZOFFSETTO:+0100
TZNAME:CET
DTSTART:20241027T010000
END:STANDARD
BEGIN:DAYLIGHT
TZOFFSETFROM:+0100
TZOFFSETTO:+0200
TZNAME:CEST
DTSTART:20250330T010000
END:DAYLIGHT
BEGIN:STANDARD
TZOFFSETFROM:+0200
TZOFFSETTO:+0100
TZNAME:CET
DTSTART:20251026T010000
END:STANDARD
END:VTIMEZONE
BEGIN:VEVENT
DTSTART;TZID=Europe/Paris:20241017T123000
DTEND;TZID=Europe/Paris:20241017T133000
DTSTAMP:20260424T153602
CREATED:20240924T090827Z
LAST-MODIFIED:20250912T080231Z
UID:21999-1729168200-1729171800@www.iaa.csic.es
SUMMARY:SO Colloquium: Radio eyes for the Sun\, Heliosphere and Ionosphere: Status and plans for the SKAO era
DESCRIPTION:We stand on the brink of the SKAO era\, this talk aims to elucidate the transformative potential of SKAO for solar physics\, heliospheric\, and ionospheric research. The SKAO’s advanced radio telescopes\, with their superior angular\, spectral\, and temporal resolution\, are poised to offer new insights into solar activity and its effects on the heliosphere and ionosphere. The deployment of SKAO’s facilities\, including the pathfinders LOFAR\, MWA\, and MeerKAT\, marks a significant advancement in our ability to monitor solar phenomena and their interactions with the heliosphere and ionosphere. These instruments have already begun to enhance our capabilities for detailed observations and will continue to do so as part of the SKAO network. The integration of these pathfinders with SKAO’s infrastructure is expected to improve our understanding of the solar dynamics by enabling high-resolution imaging of solar flares\, coronal mass ejections\, and other solar events that influence space weather. Furthermore\, the SKAO’s design considerations for ionospheric calibration and its potential for heliospheric science underscore its role in advancing our knowledge of cosmic ray transport and the structure of the heliosphere. This is crucial for improving models of space weather forecasting and understanding the solar-terrestrial interactions that affect our planet’s environment. In summary\, the SKAO provides an unparalleled opportunity to explore the Sun\, heliosphere\, and ionosphere with a level of detail previously unattainable. This talk will discuss the current status of these research areas and outline the future plans for exploiting SKAO’s full scientific potential\, thereby ushering in a new era of discovery in solar and space sciences. \nFecha: 17/10/2024 – 12:30Conferenciante: Dr. Pietro ZuccaFiliación: ASTRON\, The Netherlands
URL:https://www.iaa.csic.es/evento/so-colloquium-radio-eyes-for-the-sun-heliosphere-and-ionosphere-status-and-plans-for-the-skao-era/
LOCATION:IAA – CSIC\, Glorieta de la Astronomía\, Granada\, España
CATEGORIES:SO Colloquium
ATTACH;FMTTYPE=image/png:https://www.iaa.csic.es/wp-content/uploads/2025/07/SO-COLLOQUIUM.png
END:VEVENT
END:VCALENDAR