BEGIN:VCALENDAR
VERSION:2.0
PRODID:-//Instituto de Astrofísica de Andalucía - ECPv6.15.20//NONSGML v1.0//EN
CALSCALE:GREGORIAN
METHOD:PUBLISH
X-WR-CALNAME:Instituto de Astrofísica de Andalucía
X-ORIGINAL-URL:https://www.iaa.csic.es
X-WR-CALDESC:Eventos para Instituto de Astrofísica de Andalucía
REFRESH-INTERVAL;VALUE=DURATION:PT1H
X-Robots-Tag:noindex
X-PUBLISHED-TTL:PT1H
BEGIN:VTIMEZONE
TZID:Europe/Paris
BEGIN:DAYLIGHT
TZOFFSETFROM:+0100
TZOFFSETTO:+0200
TZNAME:CEST
DTSTART:20230326T010000
END:DAYLIGHT
BEGIN:STANDARD
TZOFFSETFROM:+0200
TZOFFSETTO:+0100
TZNAME:CET
DTSTART:20231029T010000
END:STANDARD
BEGIN:DAYLIGHT
TZOFFSETFROM:+0100
TZOFFSETTO:+0200
TZNAME:CEST
DTSTART:20240331T010000
END:DAYLIGHT
BEGIN:STANDARD
TZOFFSETFROM:+0200
TZOFFSETTO:+0100
TZNAME:CET
DTSTART:20241027T010000
END:STANDARD
BEGIN:DAYLIGHT
TZOFFSETFROM:+0100
TZOFFSETTO:+0200
TZNAME:CEST
DTSTART:20250330T010000
END:DAYLIGHT
BEGIN:STANDARD
TZOFFSETFROM:+0200
TZOFFSETTO:+0100
TZNAME:CET
DTSTART:20251026T010000
END:STANDARD
END:VTIMEZONE
BEGIN:VEVENT
DTSTART;TZID=Europe/Paris:20241024T123000
DTEND;TZID=Europe/Paris:20241024T133000
DTSTAMP:20260423T020232
CREATED:20241023T084256Z
LAST-MODIFIED:20250912T080224Z
UID:22339-1729773000-1729776600@www.iaa.csic.es
SUMMARY:SO Colloquium: Role of Astrophotonics in Astronomy: The MARCOT Pathfinder
DESCRIPTION:Dr. Kalaga Venu Madhav\, a renowned astrophysicist from the Leibniz Institute for Astrophysics Potsdam\, will present a colloquium on the role of astrophotonics in astronomy\, focusing on the MARCOT Pathfinder project. The talk will cover advancements in astrophotonic technologies and their applications in modern astronomical instrumentation. Dr. Madhav will discuss the development and implementation of photonic devices in telescopes\, their impact on observational capabilities\, and the prospects of astrophotonics in enhancing our understanding of the universe. This colloquium will provide insights into the innovative technologies driving contemporary astronomical research. \nFecha: 24/10/2024 – 12:30Conferenciante: Dr. Kalaga MadhavFiliación: Leibniz Institute for Astrophysics Potsdam (AIP)\, Germany
URL:https://www.iaa.csic.es/evento/so-colloquium-role-of-astrophotonics-in-astronomy-the-marcot-pathfinder/
LOCATION:IAA – CSIC\, Glorieta de la Astronomía\, Granada\, España
CATEGORIES:SO Colloquium
ATTACH;FMTTYPE=image/png:https://www.iaa.csic.es/wp-content/uploads/2025/07/SO-COLLOQUIUM.png
END:VEVENT
END:VCALENDAR