BEGIN:VCALENDAR
VERSION:2.0
PRODID:-//Instituto de Astrofísica de Andalucía - ECPv6.15.20//NONSGML v1.0//EN
CALSCALE:GREGORIAN
METHOD:PUBLISH
X-ORIGINAL-URL:https://www.iaa.csic.es
X-WR-CALDESC:Eventos para Instituto de Astrofísica de Andalucía
REFRESH-INTERVAL;VALUE=DURATION:PT1H
X-Robots-Tag:noindex
X-PUBLISHED-TTL:PT1H
BEGIN:VTIMEZONE
TZID:Europe/Paris
BEGIN:DAYLIGHT
TZOFFSETFROM:+0100
TZOFFSETTO:+0200
TZNAME:CEST
DTSTART:20220327T010000
END:DAYLIGHT
BEGIN:STANDARD
TZOFFSETFROM:+0200
TZOFFSETTO:+0100
TZNAME:CET
DTSTART:20221030T010000
END:STANDARD
BEGIN:DAYLIGHT
TZOFFSETFROM:+0100
TZOFFSETTO:+0200
TZNAME:CEST
DTSTART:20230326T010000
END:DAYLIGHT
BEGIN:STANDARD
TZOFFSETFROM:+0200
TZOFFSETTO:+0100
TZNAME:CET
DTSTART:20231029T010000
END:STANDARD
BEGIN:DAYLIGHT
TZOFFSETFROM:+0100
TZOFFSETTO:+0200
TZNAME:CEST
DTSTART:20240331T010000
END:DAYLIGHT
BEGIN:STANDARD
TZOFFSETFROM:+0200
TZOFFSETTO:+0100
TZNAME:CET
DTSTART:20241027T010000
END:STANDARD
END:VTIMEZONE
BEGIN:VEVENT
DTSTART;TZID=Europe/Paris:20230711T080000
DTEND;TZID=Europe/Paris:20230713T190000
DTSTAMP:20260422T235755
CREATED:20231109T171208Z
LAST-MODIFIED:20250912T080428Z
UID:19853-1689062400-1689274800@www.iaa.csic.es
SUMMARY:VIII Reunión Española de Física Solar y Heliosférica "25 años de física solar en Granada"
DESCRIPTION:Como otras reuniones anteriores\, la octava edición de las Reuniones Españolas de Física Solar y Heliosférica pretende revisar y poner de relieve la excelente salud investigadora española en estas disciplinas. A través de sesiones multidisciplinares en las que se mezclen los estudios de las distintas capas del Sol y el medio interplanetario y en las que se incluya tanto teoría como observaciones e instrumentación\, la comunidad española podrá poner en común los últimos avances. Se pondrá especial énfasis en el uso especializado y el desarrollo de nueva instrumentación. En particular\, las campañas en los telescopios de los observatorios de Canarias\, los desarrollos para el European Solar Telescope y la participación en misiones espaciales como Solar Orbiter y Vigil de la ESA tendrán una relevancia destacada. \n			\n			\n				\n				\n				\n				\n			\n				\n				\n				\n				\n				\n				\n				\n				\n				\n				\n				SOCNazaret Bello González (KIS\, Alemania)Julián Blanco Rodríguez (UV)Consuelo Cid Tortuero (UAH)Sara Esteban Pozuelo (IAC)Ana Belén Griñón Marín (UiO\, Noruega)María Jesús Martínez González (IAC)Azaymi L. Siu-Tapia (IAA-CSIC\, Presidente)Jaume Terradas Calafell (UIB)Jose Carlos del Toro Iniesta (IAA-CSIC) \n			\n			\n				\n				\n				\n				\n				\n				\n				\n				\n				\n				Local Organizing CommitteeFrancisco Javier Bailén MartínezEduardo Bailón MartínezAlejandro Moreno VacasPablo Santamarina GuerreroAzaymi L. Siu-Tapia (Presidente)Hanna StreckerJose Carlos del Toro Iniesta
URL:https://www.iaa.csic.es/evento/viii-reunion-espanola-fisica-solar-y-heliosferica-25-anos-fisica-solar-en-granada/
LOCATION:IAA – CSIC\, Glorieta de la Astronomía\, Granada\, España
CATEGORIES:SO Meeting
ATTACH;FMTTYPE=image/png:https://www.iaa.csic.es/wp-content/uploads/2023/11/congresscover-e1752660113960.png
END:VEVENT
BEGIN:VEVENT
DTSTART;TZID=Europe/Paris:20230629T190000
DTEND;TZID=Europe/Paris:20230629T200000
DTSTAMP:20260422T235755
CREATED:20231109T130149Z
LAST-MODIFIED:20250125T010943Z
UID:19735-1688065200-1688068800@www.iaa.csic.es
SUMMARY:Fenómenos eléctricos en atmósferas planetarias: ¿Qué son y cómo nos afectan?
DESCRIPTION:La presencia de agua en nuestro planeta impregna su atmósfera haciendo posible las nubes (formadas por gotas de agua en suspensión y cristales de hielo de agua) en cuyo interior se producen\, gracias a la convección atmosférica\, complejas distribuciones de carga eléctrica que dan lugar a una variedad de descargas eléctricas (no solo los rayos). \nAunque las investigaciones sobre la naturaleza eléctrica de la atmósfera terrestre arrancan a mediados del siglo XVIII\, con las primeras aportaciones sobre la electricidad de las tormenta realizadas por Benjamín Franklin entre 1749 y 1752\, a día de hoy persisten muchos interrogantes como\, por ejemplo\, ¿cuáles son los mecanismos precisos que posibilitan la formación de los rayos en el interior de nubes de tormenta?\, ¿son todos los rayos iguales?\, ¿qué son las extrañas descargas eléctricas descubiertas a partir de 1989 en las capas altas de la atmósfera terrestre (a partir de 15 kilómetros) y cómo están relacionadas con los rayos? ¿Existen rayos y otros tipos de descargas eléctricas en los planetas del Sistema Solar y en exoplanetas? ¿Afecta el calentamiento global a la frecuencia\, intensidad y distribución geográfica de los rayos? \nRecientemente se ha avanzado mucho en el estudio de descargas eléctricas “frías” o coronas eléctricas producidas en el interior de nubes de tormenta. A diferencia de los rayos\, estas descargas\, aunque muy energéticas\, no calientan el aire y son una fuente natural directa de gases de efecto invernadero como el ozono y el óxido nitroso (gas de la risa). \nEn esta charla emprenderemos un viaje electrizante por algunos aspectos de lo que hoy en día se conoce sobre la actividad eléctrica en la atmósfera terrestre y en otros planetas del Sistema Solar. Expondremos algunos de los últimos descubrimientos en este campo obtenidos gracias a los nuevos sensores en órbita terrestre que están permitiendo ahondar en el conocimiento de la naturaleza eléctrica de nuestra atmósfera. \nFecha: 29/06/2023 – 19:00Conferenciante: Francisco Gordillo VázquezFiliación: IAA-CSIC \n 
URL:https://www.iaa.csic.es/evento/fenomenos-electricos-en-atmosferas-planetarias-que-son-y-como-nos-afectan/
LOCATION:IAA – CSIC\, Glorieta de la Astronomía\, Granada\, España
CATEGORIES:Conferencias Lucas Lara
ATTACH;FMTTYPE=image/png:https://www.iaa.csic.es/wp-content/uploads/2023/11/LL_junio_p_0.png
END:VEVENT
BEGIN:VEVENT
DTSTART;TZID=Europe/Paris:20230621T110000
DTEND;TZID=Europe/Paris:20230621T120000
DTSTAMP:20260422T235756
CREATED:20231109T181231Z
LAST-MODIFIED:20250912T081131Z
UID:19908-1687345200-1687348800@www.iaa.csic.es
SUMMARY:PySnacks 4: SHERLOCK: A python pipeline to explore space-based observations in the search for planets
DESCRIPTION:SHERLOCK is an  end-to-end public pipeline that allows the users to explore the data from space-based missions such as TESS and Kepler/K2 to search for planetary candidates. It can be used to recover alerted candidates by the automatic pipelines such as the Science Processing Operations Center (SPOC) and the Quick Look Pipeline (QLP)\, the so-called Kepler objects of interest (KOIs) and TESS objects of interest (TOIs)\, and to search for candidates that remain unnoticed due to detection thresholds\, lack of data exploration or poor photometric quality. To this end\, SHERLOCK has six different modules to (1) acquire and prepare the light curves from their online repositories\, (2) search for planetary candidates\, (3) vet the interesting signals\, (4) perform a statistical validation\, (5) model the signals to refine their ephemerides\, and (6) compute the observational windows from ground-based observatories to trigger a follow-up campaign. SHERLOCK is being used in the SPECULOOS and FATE projects and can be applied to all kinds of similar projects with ease. This course is being organized by Cristina Rodríguez and Fran Pozuelos and it will be taught by Fran Pozuelos (IAA-CSIC).  The workshop will be performed as follows:  1) General presentation of SHERLOCK. Introduction about the motivation to develop this pipeline and its capabilities compared to others and some projects that use it. (~0.5h)  2) The SHERLOCK workflow. Explanation about all the steps performed by SHERLOCK and how to vet the results to identify a detected signal as a potential planet. (~1.5h)  3) Examples. In a hands-on session\, examples of a SHERLOCK execution will be given. (~1h) \n 
URL:https://www.iaa.csic.es/evento/pysnacks-4-sherlock-a-python-pipeline-to-explore-space-based-observations-in-the-search-for-planets/
LOCATION:IAA – CSIC\, Glorieta de la Astronomía\, Granada\, España
CATEGORIES:SO Training
ATTACH;FMTTYPE=image/png:https://www.iaa.csic.es/wp-content/uploads/2023/11/sherlock.png
END:VEVENT
BEGIN:VEVENT
DTSTART;TZID=Europe/Paris:20230525T190000
DTEND;TZID=Europe/Paris:20230525T200000
DTSTAMP:20260422T235756
CREATED:20231109T130734Z
LAST-MODIFIED:20250125T011004Z
UID:19744-1685041200-1685044800@www.iaa.csic.es
SUMMARY:¿Agujeros negros o estrellas negras? Un diálogo galileano
DESCRIPTION:Los agujeros negros parecen ser el resultado ineludible del colapso gravitatorio\, el estadio final de la evolución estelar. Esta imagen se ha venido reforzando en los últimos años con las diferentes noticias de avistamientos de agujeros negros. Sin embargo\, no todos los investigadores están de acuerdo sobre qué se está viendo en realidad. En esta charla vais a presenciar cómo debaten entre sí un defensor de los agujeros negros\, el consenso ahora mismo en la comunidad científica\, y un joven investigador que cree que quizá estemos viendo otra cosa. \nFecha: 25/05/2023 – 19:00Conferenciante: Julio Arrechea y Carlos BarcelóFiliación: IAA-CSIC \n 
URL:https://www.iaa.csic.es/evento/agujeros-negros-o-estrellas-negras-un-dialogo-galileano/
LOCATION:IAA – CSIC\, Glorieta de la Astronomía\, Granada\, España
CATEGORIES:Conferencias Lucas Lara
ATTACH;FMTTYPE=image/png:https://www.iaa.csic.es/wp-content/uploads/2023/11/mayo_0.png
END:VEVENT
BEGIN:VEVENT
DTSTART;TZID=Europe/Paris:20230505T080000
DTEND;TZID=Europe/Paris:20230519T190000
DTSTAMP:20260422T235756
CREATED:20231109T171722Z
LAST-MODIFIED:20250124T175609Z
UID:19860-1683273600-1684522800@www.iaa.csic.es
SUMMARY:20th Electromagnetic and Light Scattering Conference
DESCRIPTION:The 20th Electromagnetic and Light Scattering Conference (ELS-XX) will build on the remarkable success of the previous ELS conferences. ​ The main goal of the ELS conference series is to bring together scientists and engineers studying various aspects of light scattering and to provide a relaxed academic atmosphere for in-depth discussions of theoretical advances\, measurements\, and applications. ​ \n			\n				\n				\n				\n				\n				Scientific Advisory CommitteeBaptiste Auguie\, Victoria University of Wellington\, Wellington\, New ZealandMathew Berg\, Kansas State University\, USALei Bi\, Zhejiang University\, ChinaOleg Dubovik\, CNRS/Universite de Lille\, FranceGérard Gouesbet\, National Institute of Applied Sciences\, Rouen\, FranceMaria Antonia Iati\, Istituto per i Processi Chimico-Fisici Consiglio Nazionale delle Ricerche\, Messina\, ItalyMichael Kahnert\, Swedish Meteorological Institute and Hydrological Institute\, SwedenLudmilla Kolokolova\, University of Maryland\, College Park\, Maryland\, USAAndreas Macke\, Leibniz-Institut für Troposphärenforschung\, Leipzig\, GermanyOnofrio M. Maragò\, Istituto per i Processi Chimico-Fisici Consiglio Nazionale delle Ricerche\, Messina\, ItalyHal Maring\, NASA HQ\, Washington\, DC\, USAM. Pinar Mengüç\, Ozyegin University\, Istanbul\, TurkeyFernando Moreno\, Instituto de Astrofísica de Andalucía\, Granada\, SpainKarri Muinonen\, University of Helsinki & National Land Survey\, FinlandOlga Muñoz\, Instituto de Astrofísica de Andalucía\, Granada\, SpainYurij Shkuratov\, V. N. Karazin Kharkiv National University\, Kharkov\, UkraineAnn Carine Vandaele\, Royal Belgian Institute for Spac Aeronomie\, Brussels\, BelgiumGorden Videen\, Army Research Laboratory\, Adelphi\, MD\, USAAnne Virkki\, University of Helsinki\, FinlandThomas Wriedt\, University of Bremen\, GermanyPing Yang\, Texas A&M University\, USAMaxim Yurkin\, Ozyegin University\, Istanbul\, TurkeyEvgenij Zubko\, Kyung Hee University\, Yongin-shi\, Republic of Korea \n			\n				\n				\n				\n				\n				Local Organizing CommitteeElisa Frattin\, IAA-CSICJuan Carlos Gómez-Martín\, IAA-CSICDaniel Guirado\, IAA-CSICFrançois Malaval\, IAA-CSICJulia Martikainen\, IAA-CSICFernando Moreno\, IAA-CSICOlga Muñoz\, IAA-CSICAlicia Pelegrina\, IAA-CSIC
URL:https://www.iaa.csic.es/evento/20th-electromagnetic-and-light-scattering-conference/
LOCATION:Almuñecar\, Paseo del Tesorillo\, Almuñecar\, 18690\, España
CATEGORIES:Congresos
ATTACH;FMTTYPE=image/jpeg:https://www.iaa.csic.es/wp-content/uploads/2023/11/ElectromagneticLightScattering.jpg
END:VEVENT
BEGIN:VEVENT
DTSTART;TZID=Europe/Paris:20230330T190000
DTEND;TZID=Europe/Paris:20230330T200000
DTSTAMP:20260422T235756
CREATED:20231109T131349Z
LAST-MODIFIED:20250125T011024Z
UID:19756-1680202800-1680206400@www.iaa.csic.es
SUMMARY:Lo que debemos a los astrónomos del Egipto antiguo: una perspectiva desde la ciencia y la cultura
DESCRIPTION:El Egipto antiguo fascina por sus monumentos y sus tesoros\, y algunos de sus personajes figuran en el acervo colectivo. Sin embargo\, en general\, se ignora que Egipto también tuvo una contribución substancial a la ciencia\, la astronomía incluida. Los filósofos griegos viajaban a Egipto en busca de sabiduría. Aquí analizaremos cómo un calendario gobernado por las inundaciones anuales del Nilo acabó convirtiéndose en el calendario que regula la vida económica de un planeta de siete mil millones de habitantes\, cómo nuestros relojes marcan las horas que los sacerdotes egipcios desarrollaron para adorar a sus dioses en los momentos apropiados y cómo la arquitectura monumental reflejaba la cosmología de sus constructores\, hasta el día de hoy.   \nFecha: 30/03/2023 – 19:00Conferenciante: Juan Antonio BelmonteFiliación: IAC \n 
URL:https://www.iaa.csic.es/evento/lo-que-debemos-a-los-astronomos-del-egipto-antiguo-una-perspectiva-desde-la-ciencia-y-la-cultura/
LOCATION:IAA – CSIC\, Glorieta de la Astronomía\, Granada\, España
CATEGORIES:Conferencias Lucas Lara
ATTACH;FMTTYPE=image/png:https://www.iaa.csic.es/wp-content/uploads/2023/11/marzo.png
END:VEVENT
END:VCALENDAR